BEGIN:VCALENDAR
VERSION:2.0
PRODID:-//ChamberMaster//Event Calendar 2.0//EN
METHOD:PUBLISH
X-PUBLISHED-TTL:P3D
REFRESH-INTERVAL:P3D
CALSCALE:GREGORIAN
BEGIN:VEVENT
DTSTART:20250714T130000Z
DTEND:20250718T160000Z
X-MICROSOFT-CDO-ALLDAYEVENT:FALSE
SUMMARY:Science Explorer Camp: Super Sleuths
DESCRIPTION:SUPER SLEUTHS: WE NEED YOUR HELP! We just received a new shipment of exhibit pieces and the labels fell off. We only have five days to get everything back to their gallery. During this week\, explorers will solve a gallery-specific science related problem each day. They will engage in hands-on activities that will promote critical thinking\, problem-solving skills\, and peer collaboration.
X-ALT-DESC;FMTTYPE=text/html:SUPER SLEUTHS: WE NEED YOUR HELP! We just received a new shipment of exhibit pieces and the labels fell off. We only have five days to get everything back to their gallery. During this week\, explorers will solve a gallery-specific science related problem each day. They will engage in hands-on activities that will promote critical thinking\, problem-solving skills\, and peer collaboration.
LOCATION:Tellus Science Museum 770-606-5700
UID:e.1202.170670
SEQUENCE:3
DTSTAMP:20260422T045823Z
URL:https://business.cartersvillechamber.com/events/details/science-explorer-camp-super-sleuths-170670
END:VEVENT

END:VCALENDAR
