BEGIN:VCALENDAR
VERSION:2.0
PRODID:-//ChamberMaster//Event Calendar 2.0//EN
METHOD:PUBLISH
X-PUBLISHED-TTL:P3D
REFRESH-INTERVAL:P3D
CALSCALE:GREGORIAN
BEGIN:VEVENT
DTSTART:20240824T140000Z
DTEND:20240824T203000Z
X-MICROSOFT-CDO-ALLDAYEVENT:FALSE
SUMMARY:Science in Space
DESCRIPTION:Join us for Science in Space\, in partnership with Embry Riddle Aeronautical University! This exciting day features hands-on activities from 10 AM to 4 PM. Along with presentations and book signings by retired NASA astronaut Col. Terry Virts and retired NASA food scientist Dr. Vickie Kloeris. Don't miss this chance to discover the wonders of space exploration with us   it's sure to be out of this world!
X-ALT-DESC;FMTTYPE=text/html:Join us for Science in Space\, in partnership with Embry Riddle Aeronautical University! This exciting day features hands-on activities from 10 AM to 4 PM. Along with presentations and book signings by retired NASA astronaut Col. Terry Virts and retired NASA food scientist Dr. Vickie Kloeris. Don&rsquo\;t miss this chance to discover the wonders of space exploration with us &ndash\; it&rsquo\;s sure to be out of this world!
LOCATION:Tellus Science Museum
UID:e.1202.166154
SEQUENCE:3
DTSTAMP:20260422T201649Z
URL:https://business.cartersvillechamber.com/events/details/science-in-space-166154
END:VEVENT

END:VCALENDAR
