BEGIN:VCALENDAR
VERSION:2.0
PRODID:-//ChamberMaster//Event Calendar 2.0//EN
METHOD:PUBLISH
X-PUBLISHED-TTL:P3D
REFRESH-INTERVAL:P3D
CALSCALE:GREGORIAN
BEGIN:VEVENT
DTSTART:20240518T133000Z
DTEND:20240518T163000Z
X-MICROSOFT-CDO-ALLDAYEVENT:FALSE
SUMMARY:Scout Saturday: Brownies + Daisies
DESCRIPTION:BUGS! Insects vs. Arachnids Registration for this program closes at noon on Wednesday\, May 15\, 2024 or when the program reaches maximum capacity. Come experience the fun and exciting world of bugs! During your visit\, all scouts will embark on their "Outdoor STEM Journey   Think like a Citizen Scientist". Brownies will complete 4 steps towards their Bug Badge. This workshop is full of scientific fun and\, as part of your program\, you will also explore the Collins Family My Big Backyard gallery.
X-ALT-DESC;FMTTYPE=text/html:BUGS! Insects vs. Arachnids Registration for this program closes at noon on Wednesday\, May 15\, 2024 or when the program reaches maximum capacity. Come experience the fun and exciting world of bugs! During your visit\, all scouts will embark on their &ldquo\;Outdoor STEM Journey &ndash\; Think like a Citizen Scientist&rdquo\;. Brownies will complete 4 steps towards their Bug Badge. This workshop is full of scientific fun and\, as part of your program\, you will also explore the Collins Family My Big Backyard gallery.
LOCATION:Tellus Science Museum
UID:e.1202.161044
SEQUENCE:3
DTSTAMP:20260423T004443Z
URL:https://business.cartersvillechamber.com/events/details/scout-saturday-brownies-daisies-161044
END:VEVENT

END:VCALENDAR
