BEGIN:VCALENDAR
VERSION:2.0
PRODID:-//ChamberMaster//Event Calendar 2.0//EN
METHOD:PUBLISH
X-PUBLISHED-TTL:P3D
REFRESH-INTERVAL:P3D
CALSCALE:GREGORIAN
BEGIN:VEVENT
DTSTART:20260110T150000Z
DTEND:20260110T200000Z
X-MICROSOFT-CDO-ALLDAYEVENT:FALSE
SUMMARY:Scoutacular Science
DESCRIPTION:Calling all scouts from Lions + Daisies through Scouting America + GSUSA! Join us at Tellus Science Museum for a day packed with exciting activities designed to help you meet a variety of badge requirements. Each exhibit\, lab\, and interactive space is tailored to cover topics like geology\, astronomy\, physical science\, and more   making this journey both fun and educational! Visit our labs to complete themed activities designed to help meet badge requirements for a variety of subjects and ages. The one and only Tellus Blue Crew will be making a special appearance in the galleries! Join in on fun\, scout-centered hands-on activities. The Tellus SASSquad will be in the Theater to perform live science demonstrations. We'll explore the super science of electricity that will make your hair stand on end - it's going to be Scout-acular! Catch some rays! Head out to the Observatory from 12 - 4 PM to get a glimpse of our closest star - the Sun. *weather permitting
X-ALT-DESC;FMTTYPE=text/html:Calling all scouts from Lions + Daisies through Scouting America + GSUSA! Join us at Tellus Science Museum for a day packed with exciting activities designed to help you meet a variety of badge requirements. Each exhibit\, lab\, and interactive space is tailored to cover topics like geology\, astronomy\, physical science\, and more &ndash\; making this journey both fun and educational! Visit our labs to complete themed activities designed to help meet badge requirements for a variety of subjects and ages. The one and only Tellus Blue Crew will be making a special appearance in the galleries! Join in on fun\, scout-centered hands-on activities. The Tellus SASSquad will be in the Theater to perform live science demonstrations. We&#39\;ll explore the super science of electricity that will make your hair stand on end - it&#39\;s going to be Scout-acular! Catch some rays! Head out to the Observatory from 12 - 4 PM to get a glimpse of our closest star - the Sun. *weather permitting
LOCATION:Tellus Science Museum
UID:e.1202.172113
SEQUENCE:3
DTSTAMP:20260421T201455Z
URL:https://business.cartersvillechamber.com/events/details/scoutacular-science-01-10-2026-172113
END:VEVENT

END:VCALENDAR
