BEGIN:VCALENDAR
VERSION:2.0
PRODID:-//ChamberMaster//Event Calendar 2.0//EN
METHOD:PUBLISH
X-PUBLISHED-TTL:P3D
REFRESH-INTERVAL:P3D
CALSCALE:GREGORIAN
BEGIN:VEVENT
DTSTART;VALUE=DATE:20240928
DTEND;VALUE=DATE:20241006
TRANSP:TRANSPARENT
X-MICROSOFT-CDO-ALLDAYEVENT:TRUE
SUMMARY:Scrap Tire Amnesty Week
DESCRIPTION:Come recycle your scrap tires for free! This is open to Bartow residents only (no businesses). Scrap tires can only be brought to the Main Landfill.
X-ALT-DESC;FMTTYPE=text/html:Come recycle your scrap tires for free! This is open to Bartow residents only (no businesses). Scrap tires can only be brought to the Main Landfill.
LOCATION:Bartow County Main Landfill (40 Allatoona Dam Rd. Cartersville\, GA 30120
UID:e.1202.166944
SEQUENCE:3
DTSTAMP:20260422T170313Z
URL:https://business.cartersvillechamber.com/events/details/scrap-tire-amnesty-week-166944
END:VEVENT

END:VCALENDAR
