BEGIN:VCALENDAR
VERSION:2.0
PRODID:-//ChamberMaster//Event Calendar 2.0//EN
METHOD:PUBLISH
X-PUBLISHED-TTL:P3D
REFRESH-INTERVAL:P3D
CALSCALE:GREGORIAN
BEGIN:VEVENT
DTSTART:20250721T130000Z
DTEND:20250725T200000Z
X-MICROSOFT-CDO-ALLDAYEVENT:FALSE
SUMMARY:Searching for Superheroes Camp
DESCRIPTION:Searching for Superheroes Camp
X-ALT-DESC;FMTTYPE=text/html:Searching for Superheroes Camp
LOCATION:GHC Cartersville Campus
UID:e.1202.171074
SEQUENCE:3
DTSTAMP:20260422T050231Z
URL:https://business.cartersvillechamber.com/events/details/searching-for-superheroes-camp-171074
END:VEVENT

END:VCALENDAR
