BEGIN:VCALENDAR
VERSION:2.0
PRODID:-//ChamberMaster//Event Calendar 2.0//EN
METHOD:PUBLISH
X-PUBLISHED-TTL:P3D
REFRESH-INTERVAL:P3D
CALSCALE:GREGORIAN
BEGIN:VEVENT
DTSTART:20240514T173000Z
DTEND:20240514T193000Z
X-MICROSOFT-CDO-ALLDAYEVENT:FALSE
SUMMARY:Senior Social
DESCRIPTION:A Social with games and activities for citizens 55+ in and around the city of White\, Georgia. Join us for puzzles\, crosswords\, checkers\, crafts\, and more!
X-ALT-DESC;FMTTYPE=text/html:A Social with games and activities for citizens 55+&nbsp\;in and around the city of White\, Georgia. Join us for puzzles\, crosswords\, checkers\, crafts\, and more!
LOCATION:White City Hall 29 W Rocky Street White\, GA 30184
UID:e.1202.164818
SEQUENCE:3
DTSTAMP:20260423T003900Z
URL:https://business.cartersvillechamber.com/events/details/senior-social-164818
END:VEVENT

END:VCALENDAR
