BEGIN:VCALENDAR
VERSION:2.0
PRODID:-//ChamberMaster//Event Calendar 2.0//EN
METHOD:PUBLISH
X-PUBLISHED-TTL:P3D
REFRESH-INTERVAL:P3D
CALSCALE:GREGORIAN
BEGIN:VEVENT
DTSTART:20240817T130000Z
DTEND:20240818T140000Z
X-MICROSOFT-CDO-ALLDAYEVENT:FALSE
SUMMARY:Sensory Friendly Mornings
DESCRIPTION:Sensory Friendly Mornings is an exclusive event for individuals with different sensory processing skills and their families to have a fun\, enjoyable\, and interactive learning experience in a comfortable and accepting environment. This sensory-friendly event offers a conscious effort to eliminate extra stimuli
X-ALT-DESC;FMTTYPE=text/html:Sensory Friendly Mornings is an exclusive event for individuals with different sensory processing skills and their families to have a fun\, enjoyable\, and interactive learning experience in a comfortable and accepting environment. This sensory-friendly event offers a conscious effort to eliminate extra stimuli
LOCATION:Tellus Science Museum 100 Tellus Dr. Cartersville\, Ga 30120
UID:e.1202.164387
SEQUENCE:3
DTSTAMP:20260422T202226Z
URL:https://business.cartersvillechamber.com/events/details/sensory-friendly-mornings-08-17-2024-164387
END:VEVENT

END:VCALENDAR
