BEGIN:VCALENDAR
VERSION:2.0
PRODID:-//ChamberMaster//Event Calendar 2.0//EN
METHOD:PUBLISH
X-PUBLISHED-TTL:P3D
REFRESH-INTERVAL:P3D
CALSCALE:GREGORIAN
BEGIN:VEVENT
DTSTART:20241116T140000Z
DTEND:20241117T150000Z
X-MICROSOFT-CDO-ALLDAYEVENT:FALSE
SUMMARY:Sensory Friendly Mornings
DESCRIPTION:Sensory Friendly Mornings is an exclusive event for individuals with different sensory processing skills and their families to have a fun\, enjoyable\, and interactive learning experience in a comfortable and accepting environment. This sensory-friendly event offers a conscious effort to eliminate extra stimuli
X-ALT-DESC;FMTTYPE=text/html:Sensory Friendly Mornings is an exclusive event for individuals with different sensory processing skills and their families to have a fun\, enjoyable\, and interactive learning experience in a comfortable and accepting environment. This sensory-friendly event offers a conscious effort to eliminate extra stimuli
LOCATION:Tellus Science Museum 100 Tellus Drive Cartersville\, GA 30120
UID:e.1202.164388
SEQUENCE:3
DTSTAMP:20260422T155429Z
URL:https://business.cartersvillechamber.com/events/details/sensory-friendly-mornings-11-16-2024-164388
END:VEVENT

END:VCALENDAR
