BEGIN:VCALENDAR
VERSION:2.0
PRODID:-//ChamberMaster//Event Calendar 2.0//EN
METHOD:PUBLISH
X-PUBLISHED-TTL:P3D
REFRESH-INTERVAL:P3D
CALSCALE:GREGORIAN
BEGIN:VEVENT
DTSTART:20250913T130000Z
DTEND:20250913T150000Z
X-MICROSOFT-CDO-ALLDAYEVENT:FALSE
SUMMARY:Sensory Sensitive Play Time Event
DESCRIPTION:Join us and enjoy all that LakePoint Station has to offer in sensory sensitive event on Saturday\, September 13 from 9-11am.
X-ALT-DESC;FMTTYPE=text/html:Join us and enjoy all that LakePoint Station has to offer in sensory sensitive event on Saturday\, September 13 from 9-11am.
LOCATION:LakePoint Station 77 Old Allatoona Road Emerson
UID:e.1202.171817
SEQUENCE:3
DTSTAMP:20260422T020657Z
URL:https://business.cartersvillechamber.com/events/details/sensory-sensitive-play-time-event-171817
END:VEVENT

END:VCALENDAR
