BEGIN:VCALENDAR
VERSION:2.0
PRODID:-//ChamberMaster//Event Calendar 2.0//EN
METHOD:PUBLISH
X-PUBLISHED-TTL:P3D
REFRESH-INTERVAL:P3D
CALSCALE:GREGORIAN
BEGIN:VEVENT
DTSTART:20250603T160000Z
DTEND:20250603T170000Z
X-MICROSOFT-CDO-ALLDAYEVENT:FALSE
SUMMARY:"Separating Business and Personal Finances" Workshop
DESCRIPTION:"Separating Business and Personal Finances" Workshop\n\n\n\nTuesday\, June 3\, 2025\, 12 PM - 1 PM\n\nFee: Free\n\n\n\nIt's not personal\, it's business. This session will help you learn the whys and hows of separating your business and personal finances that can set you and your business up for success. We'll also provide valuable take-away resources to help you and your business.\n\n\n\nSponsored by: Truist Bank\n\n\n\nRegister Online
X-ALT-DESC;FMTTYPE=text/html:<strong>&quot\;Separating Business and Personal Finances</strong><strong>&quot\; Workshop<br />\n<br />\nTuesday\, June 3\, 2025\, 12 PM - 1 PM<br />\nFee: Free</strong><br />\n<br />\n<strong>It&rsquo\;s not personal\, it&rsquo\;s business.</strong> This session will help you learn the whys and hows of separating your business and personal finances that can set you and your business up for success. We&rsquo\;ll also provide valuable take-away resources to help you and your business.<br />\n<br />\nSponsored by: Truist Bank<br />\n<br />\n<a href="https://www.score.org/broward/event/separating-business-and-personal-finances" target="_blank"><strong>Register Online</strong></a>
LOCATION:Online Workshop
UID:e.1202.170986
SEQUENCE:3
DTSTAMP:20260422T061408Z
URL:https://business.cartersvillechamber.com/events/details/separating-business-and-personal-finances-workshop-170986
END:VEVENT

END:VCALENDAR
