BEGIN:VCALENDAR
VERSION:2.0
PRODID:-//ChamberMaster//Event Calendar 2.0//EN
METHOD:PUBLISH
X-PUBLISHED-TTL:P3D
REFRESH-INTERVAL:P3D
CALSCALE:GREGORIAN
BEGIN:VEVENT
DTSTART:20251115T130000Z
DTEND:20251115T220000Z
X-MICROSOFT-CDO-ALLDAYEVENT:FALSE
SUMMARY:SGM Perinatal & Neonatal Loss Support Training
DESCRIPTION:This training equips nurses\, chaplains\, social workers\, physicians\, doulas\, volunteers\, photographers\, medical teams\, and caregivers to implement a more comprehensive family-centered approach to caring for families facing a perinatal loss or life-limiting diagnosis in pregnancy.\n\n\n\nTWO TRAINING OPTIONS AVAILABLE:\n\nSaturday\, November 15th or Sunday\, November 16th.
X-ALT-DESC;FMTTYPE=text/html:This training equips nurses\, chaplains\, social workers\, physicians\, doulas\, volunteers\, photographers\, medical teams\, and caregivers to implement a more comprehensive family-centered approach to caring for families facing a perinatal loss or life-limiting diagnosis in pregnancy.<br />\n<br />\nTWO TRAINING OPTIONS AVAILABLE:<br />\nSaturday\, November 15th&nbsp\;<u>or</u>&nbsp\;Sunday\, November 16th.&nbsp\;
LOCATION:Cartersville Civic Center 435 West Main Street Cartersville\, Georgia 30120
UID:e.1202.171753
SEQUENCE:3
DTSTAMP:20260421T231147Z
URL:https://business.cartersvillechamber.com/events/details/sgm-perinatal-neonatal-loss-support-training-171753
END:VEVENT

END:VCALENDAR
