BEGIN:VCALENDAR
VERSION:2.0
PRODID:-//ChamberMaster//Event Calendar 2.0//EN
METHOD:PUBLISH
X-PUBLISHED-TTL:P3D
REFRESH-INTERVAL:P3D
CALSCALE:GREGORIAN
BEGIN:VEVENT
DTSTART:20250204T223000Z
DTEND:20250205T013000Z
X-MICROSOFT-CDO-ALLDAYEVENT:FALSE
SUMMARY:SHRM Certification Prep Program (Through 4/29/25)
DESCRIPTION:Become a Certified HR Professional Earn your SHRM Certified Professional (SHRM-CP ) or SHRM Senior Certified Professional (SHRM-SCP ) credential and solidify your position as a respected expert in the HR field. Why Choose Our Program? Comprehensive Curriculum: Aligned with the latest SHRM body of knowledge\, our program covers all essential HR competencies. Experienced Instructor: Learn from a seasoned HR professional with a proven track record of success. Partnered with SHRM: Benefit from the expertise and resources of the world's largest HR organization. Course Highlights: In-depth coverage of HR topics\, including strategic HR\, talent acquisition\, employee relations\, compensation and benefits\, and more Practice exams and quizzes to assess your progress Access to the SHRM learning system for additional resources and support Investment: Course fee includes textbooks and online access to the SHRM learning system. Payment plans and student option loans are available.
X-ALT-DESC;FMTTYPE=text/html:Become a Certified HR Professional Earn your SHRM Certified Professional (SHRM-CP&trade\;) or SHRM Senior Certified Professional (SHRM-SCP&trade\;) credential and solidify your position as a respected expert in the HR field. Why Choose Our Program? Comprehensive Curriculum: Aligned with the latest SHRM body of knowledge\, our program covers all essential HR competencies. Experienced Instructor: Learn from a seasoned HR professional with a proven track record of success. Partnered with SHRM: Benefit from the expertise and resources of the world&#39\;s largest HR organization. Course Highlights: In-depth coverage of HR topics\, including strategic HR\, talent acquisition\, employee relations\, compensation and benefits\, and more Practice exams and quizzes to assess your progress Access to the SHRM learning system for additional resources and support Investment: Course fee includes textbooks and online access to the SHRM learning system. Payment plans and student option loans are available.
LOCATION:GHC Cartersville Campus
UID:e.1202.167625
SEQUENCE:3
DTSTAMP:20260422T114434Z
URL:https://business.cartersvillechamber.com/events/details/shrm-certification-prep-program-through-4-29-25-167625
END:VEVENT

END:VCALENDAR
