BEGIN:VCALENDAR
VERSION:2.0
PRODID:-//ChamberMaster//Event Calendar 2.0//EN
METHOD:PUBLISH
X-PUBLISHED-TTL:P3D
REFRESH-INTERVAL:P3D
CALSCALE:GREGORIAN
BEGIN:VEVENT
DTSTART:20240827T213000Z
DTEND:20240828T003000Z
X-MICROSOFT-CDO-ALLDAYEVENT:FALSE
SUMMARY:SHRM Certification Prep (Through 11/19/24)
DESCRIPTION:Move Your Career Forward with SHRM Certification It's time to make your move. Earning your SHRM-CP or SHRM-SCP credential can help you enhance your HR expertise\, empower positive change in your workplace\, and increase your earning potential.
X-ALT-DESC;FMTTYPE=text/html:Move Your Career Forward with SHRM Certification It&rsquo\;s time to make your move. Earning your SHRM-CP or SHRM-SCP credential can help you enhance your HR expertise\, empower positive change in your workplace\, and increase your earning potential.
LOCATION:GHC Cartersville Campus
UID:e.1202.166146
SEQUENCE:3
DTSTAMP:20260422T201706Z
URL:https://business.cartersvillechamber.com/events/details/shrm-certification-prep-through-11-19-24-166146
END:VEVENT

END:VCALENDAR
