BEGIN:VCALENDAR
VERSION:2.0
PRODID:-//ChamberMaster//Event Calendar 2.0//EN
METHOD:PUBLISH
X-PUBLISHED-TTL:P3D
REFRESH-INTERVAL:P3D
CALSCALE:GREGORIAN
BEGIN:VEVENT
DTSTART:20270420T220000Z
DTEND:20270420T233000Z
X-MICROSOFT-CDO-ALLDAYEVENT:FALSE
SUMMARY:Silent Book Club: Cartersville Library Chapter
DESCRIPTION:Partnering with The Silent Book Club organization\, the Cartersville Library is happy to announce we have started our own branch of the Silent Book Club! Join us in the Cartersville Library's adult reading room for some reading and refreshments. Drop in anytime between 6-7pm to snuggle up with your current read and enjoy light refreshments and company from 7-7:30pm. This is a great opportunity to gather book recommendations\, make friends\, and enjoy some one-on-one time with your current reads. Silent Book Club will be hosted at the Cartersville Library the 3rd Tuesday of every month.
X-ALT-DESC;FMTTYPE=text/html:<span style="color:rgb(62\, 62\, 62)\; font-family:system-ui\; font-size:12.8px">Partnering with The Silent Book Club organization\, the Cartersville Library is happy to&nbsp\;</span><span style="color:rgb(62\, 62\, 62)\; font-family:system-ui\; font-size:12.8px">announce we have started our own branch of the Silent Book Club! J</span><span style="color:rgb(62\, 62\, 62)\; font-family:system-ui\; font-size:12.8px">oin us in the Cartersville Library&rsquo\;s adult reading room for some reading and&nbsp\;</span><span style="color:rgb(62\, 62\, 62)\; font-family:system-ui\; font-size:12.8px">refreshments. Drop in anytime between 6-7pm to snuggle up with your current read&nbsp\;</span><span style="color:rgb(62\, 62\, 62)\; font-family:system-ui\; font-size:12.8px">and enjoy light refreshments and company from 7-7:30pm. This is a great opportunity to&nbsp\;</span><span style="color:rgb(62\, 62\, 62)\; font-family:system-ui\; font-size:12.8px">gather book recommendations\, make friends\, and enjoy some one-on-one time with&nbsp\;</span><span style="color:rgb(62\, 62\, 62)\; font-family:system-ui\; font-size:12.8px">your current reads. Silent Book Club will be hosted at the Cartersville Library the 3rd&nbsp\;</span><span style="color:rgb(62\, 62\, 62)\; font-family:system-ui\; font-size:12.8px">Tuesday of every month.</span>
LOCATION:Cartersville Library Reading Room 429 West Main St Cartersville\, GA 30120
UID:e.1202.167955
SEQUENCE:3
DTSTAMP:20260422T092046Z
URL:https://business.cartersvillechamber.com/events/details/silent-book-club-cartersville-library-chapter-04-20-2027-167955
END:VEVENT

END:VCALENDAR
