BEGIN:VCALENDAR
VERSION:2.0
PRODID:-//ChamberMaster//Event Calendar 2.0//EN
METHOD:PUBLISH
X-PUBLISHED-TTL:P3D
REFRESH-INTERVAL:P3D
CALSCALE:GREGORIAN
BEGIN:VEVENT
DTSTART:20250301T140000Z
DTEND:20250301T190000Z
X-MICROSOFT-CDO-ALLDAYEVENT:FALSE
SUMMARY:Skill Sol Outdoor Expo
DESCRIPTION:The 2nd Annual Skill Sol Outdoor Expo will take place on March 1st\, 2025 from 9:00am-2:00pm at Adairsville High School. Vendors will be set up in the Aux. Gym selling turkey calls\, custom hats and outdoor gear\, fishing tackle\, DNR deer scoring and more! Raffles will take place throughout the day\, including a new weed eater\, chainsaw\, and a guided quail hunt at Big Cedar Ranch in Cedartown. Come see some of the biggest deer taken in North Georgia on display! The Skill Sol Outdoor Expo will have something for the whole family!
X-ALT-DESC;FMTTYPE=text/html:The 2nd Annual Skill Sol Outdoor Expo will take place on March 1st\, 2025 from 9:00am-2:00pm at Adairsville High School. Vendors will be set up in the Aux. Gym selling turkey calls\, custom hats and outdoor gear\, fishing tackle\, DNR deer scoring and more! Raffles will take place throughout the day\, including a new weed eater\, chainsaw\, and a guided quail hunt at Big Cedar Ranch in Cedartown. Come see some of the biggest deer taken in North Georgia on display! The Skill Sol Outdoor Expo will have something for the whole family!
LOCATION:Adairsville High School Aux. Gym
UID:e.1202.168598
SEQUENCE:3
DTSTAMP:20260422T103155Z
URL:https://business.cartersvillechamber.com/events/details/skill-sol-outdoor-expo-168598
END:VEVENT

END:VCALENDAR
