BEGIN:VCALENDAR
VERSION:2.0
PRODID:-//ChamberMaster//Event Calendar 2.0//EN
METHOD:PUBLISH
X-PUBLISHED-TTL:P3D
REFRESH-INTERVAL:P3D
CALSCALE:GREGORIAN
BEGIN:VEVENT
DTSTART:20240508T140000Z
DTEND:20240508T160000Z
X-MICROSOFT-CDO-ALLDAYEVENT:FALSE
SUMMARY:"Small Business Administration Contracting Assistance Programs and Certifications" Workshop
DESCRIPTION:"Small Business Administration Contracting Assistance Programs and Certifications" Workshop\n\n\n\nWednesday\, May 8\, 2024\, 10 AM - 12 PM\n\nFee: Free\n\n\n\nLearn about Small Business Administration Contracting Assistance Programs and Certifications: \n\n	EDWOSB/WOSB\n	SDVOSB/VOSB\n	8(a) Business Development\n	HUBZone\n\nIn this Live Online Workshop\, the Instructor will provide a description and purpose of each program along with applicable Federal Acquisition Regulations (FAR) references. You will learn about:\n\n\n	The benefits of each certification\n	SBA's goaling thresholds for each category\n	Eligibility requirements\n	Document preparation checklists\n	Application processes\n\n\n\nRegister Online
X-ALT-DESC;FMTTYPE=text/html:<strong>&quot\;Small Business Administration Contracting Assistance Programs and Certifications&quot\; Workshop<br />\n<br />\nWednesday\, May 8\, 2024\, 10 AM - 12 PM<br />\nFee: Free</strong><br />\n<br />\nLearn about Small Business Administration Contracting Assistance Programs and Certifications:&nbsp\;\n<ul>\n	<li>EDWOSB/WOSB</li>\n	<li>SDVOSB/VOSB</li>\n	<li>8(a) Business Development</li>\n	<li>HUBZone</li>\n</ul>\nIn this <strong>Live Online Workshop</strong>\, the Instructor will provide a description and purpose of each program along with applicable Federal Acquisition Regulations (FAR) references. You will learn about:\n\n<ul>\n	<li>The benefits of each certification</li>\n	<li>SBA&rsquo\;s goaling thresholds for each category</li>\n	<li>Eligibility requirements</li>\n	<li>Document preparation checklists</li>\n	<li>Application processes</li>\n</ul>\n<br />\n<a href="https://www.score.org/northmetroatlanta/event/small-business-administration-contracting-assistance-programs-and-0" target="_blank"><strong>Register Online</strong></a>
LOCATION:Online Workshop
UID:e.1202.164397
SEQUENCE:3
DTSTAMP:20260423T003656Z
URL:https://business.cartersvillechamber.com/events/details/small-business-administration-contracting-assistance-programs-and-certifications-workshop-164397
END:VEVENT

END:VCALENDAR
