BEGIN:VCALENDAR
VERSION:2.0
PRODID:-//ChamberMaster//Event Calendar 2.0//EN
METHOD:PUBLISH
X-PUBLISHED-TTL:P3D
REFRESH-INTERVAL:P3D
CALSCALE:GREGORIAN
BEGIN:VEVENT
DTSTART:20250218T180000Z
DTEND:20250218T190000Z
X-MICROSOFT-CDO-ALLDAYEVENT:FALSE
SUMMARY:"Small Business Content Marketing" Workshop
DESCRIPTION:"Small Business Content Marketing" Workshop\n\n\n\nTuesday\, February 18\, 2025\, 1 PM - 2 PM\n\nFee: Free\n\n\n\nContent marketing is a powerful tool for attracting and engaging your ideal audience\, but success requires a clear strategy. From planning and creation to distribution and measurement\, every step plays a role in driving results.\n\n\n\nIn this webinar\, digital marketing expert Nicole McCullum will walk you through the key elements of an effective content marketing strategy\, how to produce engaging content and how to measure performance to enhance your tactics.\n\n\n\nLearning Objectives:\n\n	Understand the role of content marketing in your digital marketing strategy\n	Learn how to develop a content marketing plan\n	Explore key content formats and how to leverage them effectively\n	Discover how to measure content performance\n\n\n\nLive attendees will receive the slide deck and a link to this webinar recording.\n\n\n\nRegister Online
X-ALT-DESC;FMTTYPE=text/html:<strong>&quot\;Small Business Content Marketing</strong><strong>&quot\; Workshop<br />\n<br />\nTuesday\, February 18\, 2025\, 1 PM - 2 PM<br />\nFee: Free</strong><br />\n<br />\nContent marketing is a powerful tool for attracting and engaging your ideal audience\, but success requires a clear strategy. From planning and creation to distribution and measurement\, every step plays a role in driving results.<br />\n<br />\nIn this webinar\, digital marketing expert Nicole McCullum will walk you through the key elements of an effective content marketing strategy\, how to produce engaging content and how to measure performance to enhance your tactics.<br />\n<br />\nLearning Objectives:\n<ul>\n	<li>Understand the role of content marketing in your digital marketing strategy</li>\n	<li>Learn how to develop a content marketing plan</li>\n	<li>Explore key content formats and how to leverage them effectively</li>\n	<li>Discover how to measure content performance</li>\n</ul>\n<br />\nLive attendees will receive the slide deck and a link to this webinar recording.<br />\n<br />\n<a href="https://www.score.org/event/small-business-content-marketing-planning-and-creating-engaging-content" target="_blank"><strong>Register Online</strong></a>
LOCATION:Online Workshop
UID:e.1202.168690
SEQUENCE:3
DTSTAMP:20260422T115830Z
URL:https://business.cartersvillechamber.com/events/details/small-business-content-marketing-workshop-168690
END:VEVENT

END:VCALENDAR
