BEGIN:VCALENDAR
VERSION:2.0
PRODID:-//ChamberMaster//Event Calendar 2.0//EN
METHOD:PUBLISH
X-PUBLISHED-TTL:P3D
REFRESH-INTERVAL:P3D
CALSCALE:GREGORIAN
BEGIN:VEVENT
DTSTART:20260506T173000Z
DTEND:20260506T183000Z
X-MICROSOFT-CDO-ALLDAYEVENT:FALSE
SUMMARY:"Small Business Financial Management" Online Workshop
DESCRIPTION:"Small Business Financial Management: What to Put in Place at Every Stage" Workshop\n\n\n\nWednesday\, May 6\, 2026\, 1:30 PM - 2:30 PM\n\nFee: Free\n\n\n\nWhether you're launching a side hustle\, starting a business\, or preparing to grow\, strong financial management plays a major role in long-term success. But for many small business owners\, keeping up with bookkeeping\, compliance\, and the financial decisions needed to support growth can quickly feel overwhelming.\n\n\n\nIn this webinar\, our expert presenter will show you what the financial lifecycle of a small business looks like and how your financial systems or support needs change in each stage. By the end of the session\, you'll have a better understanding of how to build a stronger financial foundation\, make smarter decisions as your business grows\, and identify when it's time to bring in the right support.\n\n\n\nWhat you'll learn:\n\n	Build simple bookkeeping habits to keep your records organized from the start\n	Understand the difference between a bookkeeper and a CPA and when to use each\n	Identify the financial support your business needs at different stages\n	Recognize when to invest in services that help you scale\, not just stay compliant\n	Make better financial decisions so you can focus more on running your business\n\n\n\nThis webinar is part of the National Small Business Week Learning Lab\, happening May 6-7\, 2026\, featuring free educational content\, mentor connections\, and a community of entrepreneurs.\n\n\n\nRegister Online
X-ALT-DESC;FMTTYPE=text/html:<strong>&quot\;Small Business Financial Management: What to Put in Place at Every Stage&quot\; Workshop<br />\n<br />\nWednesday\, May 6\, 2026\, 1:30 PM - 2:30 PM<br />\nFee: Free</strong><br />\n<br />\nWhether you&rsquo\;re launching a side hustle\, starting a business\, or preparing to grow\, strong financial management plays a major role in long-term success. But for many small business owners\, keeping up with bookkeeping\, compliance\, and the financial decisions needed to support growth can quickly feel overwhelming.<br />\n<br />\nIn this webinar\, our expert presenter will show you what the financial lifecycle of a small business looks like and how your financial systems or support needs change in each stage. By the end of the session\, you&rsquo\;ll have a better understanding of how to build a stronger financial foundation\, make smarter decisions as your business grows\, and identify when it&rsquo\;s time to bring in the right support.<br />\n<br />\nWhat you&rsquo\;ll learn:\n<ul>\n	<li>Build simple bookkeeping habits to keep your records organized from the start</li>\n	<li>Understand the difference between a bookkeeper and a CPA and when to use each</li>\n	<li>Identify the financial support your business needs at different stages</li>\n	<li>Recognize when to invest in services that help you scale\, not just stay compliant</li>\n	<li>Make better financial decisions so you can focus more on running your business</li>\n</ul>\n<br />\nThis webinar is part of the&nbsp\;<a href="https://academy.score.org/program/nsbw-learning-lab?_gl=1*1vavkis*_gcl_au*MjEwNzM1NDY1OC4xNzcxOTY0Nzgz*_ga*MTkyODkwNTYyOC4xNzcxOTY0Nzgz*_ga_3LHXGY70TN*czE3NzcwMzgzNDkkbzQkZzEkdDE3NzcwMzkzOTQkajEwJGwwJGgw" target="_blank">National Small Business Week Learning Lab</a>\, happening May 6-7\, 2026\, featuring free educational content\, mentor connections\, and a community of entrepreneurs.<br />\n<br />\n<a href="https://www.score.org/event/small-business-financial-management-what-put-place-every-stage" target="_blank">Register Online</a>
LOCATION:Online Workshop
UID:e.1202.174077
SEQUENCE:3
DTSTAMP:20260424T191454Z
URL:https://business.cartersvillechamber.com/events/details/small-business-financial-management-online-workshop-174077
END:VEVENT

END:VCALENDAR
