BEGIN:VCALENDAR
VERSION:2.0
PRODID:-//ChamberMaster//Event Calendar 2.0//EN
METHOD:PUBLISH
X-PUBLISHED-TTL:P3D
REFRESH-INTERVAL:P3D
CALSCALE:GREGORIAN
BEGIN:VEVENT
DTSTART:20251117T230000Z
DTEND:20251118T010000Z
X-MICROSOFT-CDO-ALLDAYEVENT:FALSE
SUMMARY:Snow Much fun! (Through Dec. 29)
DESCRIPTION:Ice Cream Paint Party\n\nHosted by My 2 Scoops Creamery & Shann Marie\n\n\n\nGet ready for a sweet and colorful experience! Join us for an Ice Cream Paint Party where creativity meets your favorite frozen treat. Each guest will receive an 8x10 canvas and all the supplies needed to create a fun\, easy painting guided by Shann Marie. Enjoy the relaxed\, family-friendly atmosphere as you paint\, laugh\, and indulge in delicious ice cream from My 2 Scoops Creamery. No experience needed just bring your imagination and your sweet tooth!\n\n\n\nPerfect for kids\, families\, and friends looking for a creative way to spend the day.
X-ALT-DESC;FMTTYPE=text/html:Ice Cream Paint Party<br />\nHosted by My 2 Scoops Creamery &amp\; Shann Marie<br />\n<br />\nGet ready for a sweet and colorful experience! Join us for an Ice Cream Paint Party where creativity meets your favorite frozen treat. Each guest will receive an 8x10 canvas and all the supplies needed to create a fun\, easy painting guided by Shann Marie. Enjoy the relaxed\, family-friendly atmosphere as you paint\, laugh\, and indulge in delicious ice cream from My 2 Scoops Creamery. No experience needed&mdash\;just bring your imagination and your sweet tooth!<br />\n<br />\nPerfect for kids\, families\, and friends looking for a creative way to spend the day.
LOCATION:27 Golf Crest Dr\, Acworth
UID:e.1202.172022
SEQUENCE:3
DTSTAMP:20260421T230928Z
URL:https://business.cartersvillechamber.com/events/details/snow-much-fun-through-dec-29-172022
END:VEVENT

END:VCALENDAR
