BEGIN:VCALENDAR
VERSION:2.0
PRODID:-//ChamberMaster//Event Calendar 2.0//EN
METHOD:PUBLISH
X-PUBLISHED-TTL:P3D
REFRESH-INTERVAL:P3D
CALSCALE:GREGORIAN
BEGIN:VEVENT
DTSTART:20250104T170000Z
DTEND:20250104T210000Z
X-MICROSOFT-CDO-ALLDAYEVENT:FALSE
SUMMARY:Solar Sky Watch
DESCRIPTION:COME OBSERVE THE SUN AT TELLUS! With special filters on our solar telescope in the Observatory\, you can safely view our nearest star\, the Sun. Look for sunspots and loops of hot hydrogen gas called prominences that extend off the disc of the Sun. This event is subject to cancellation due to cloudy skies or inclement weather. The Observatory is not heated or air-conditioned\, so please dress accordingly.
X-ALT-DESC;FMTTYPE=text/html:COME OBSERVE THE SUN AT TELLUS! With special filters on our solar telescope in the Observatory\, you can safely view our nearest star\, the Sun. Look for sunspots and loops of hot hydrogen gas called prominences that extend off the disc of the Sun. This event is subject to cancellation due to cloudy skies or inclement weather. The Observatory is not heated or air-conditioned\, so please dress accordingly.
LOCATION:Tellus Science Museum
UID:e.1202.166915
SEQUENCE:3
DTSTAMP:20260422T130316Z
URL:https://business.cartersvillechamber.com/events/details/solar-sky-watch-01-04-2025-166915
END:VEVENT

END:VCALENDAR
