BEGIN:VCALENDAR
VERSION:2.0
PRODID:-//ChamberMaster//Event Calendar 2.0//EN
METHOD:PUBLISH
X-PUBLISHED-TTL:P3D
REFRESH-INTERVAL:P3D
CALSCALE:GREGORIAN
BEGIN:VEVENT
DTSTART:20260228T170000Z
DTEND:20260228T210000Z
X-MICROSOFT-CDO-ALLDAYEVENT:FALSE
SUMMARY:Solar Sky Watch
DESCRIPTION:Saturday\, February 28\, 2026\n\n12 - 4 PM\n\n\n\nSUITABLE FOR ALL AGES.\n\nMuseum Members: FREE\n\nNon-Members: Regular Admission\n\n\n\nCOME OBSERVE THE SUN AT TELLUS!\n\n\n\nWith special filters on our solar telescope in the Observatory\, you can safely view our nearest star\, the Sun. Look for sunspots and loops of hot hydrogen gas called prominences that extend off the disc of the Sun.\n\n\n\nThis event is subject to cancellation due to cloudy skies or inclement weather. The Observatory is not heated or air-conditioned\, so please dress accordingly.
X-ALT-DESC;FMTTYPE=text/html:Saturday\, February 28\, 2026<br />\n12 - 4 PM<br />\n<br />\nSUITABLE FOR ALL AGES.<br />\nMuseum Members: FREE<br />\nNon-Members: Regular Admission<br />\n<br />\nCOME OBSERVE THE SUN AT TELLUS!<br />\n<br />\nWith special filters on our solar telescope in the Observatory\, you can safely view our nearest star\, the Sun. Look for sunspots and loops of hot hydrogen gas called prominences that extend off the disc of the Sun.<br />\n<br />\nThis event is subject to cancellation due to cloudy skies or inclement weather. The Observatory is not heated or air-conditioned\, so please dress accordingly.
LOCATION:Tellus Science Museum 100 Tellus Drive Cartersville\, GA 30120
UID:e.1202.173732
SEQUENCE:3
DTSTAMP:20260421T184724Z
URL:https://business.cartersvillechamber.com/events/details/solar-sky-watch-173732
END:VEVENT

END:VCALENDAR
