BEGIN:VCALENDAR
VERSION:2.0
PRODID:-//ChamberMaster//Event Calendar 2.0//EN
METHOD:PUBLISH
X-PUBLISHED-TTL:P3D
REFRESH-INTERVAL:P3D
CALSCALE:GREGORIAN
BEGIN:VEVENT
DTSTART:20260228T180000Z
DTEND:20260228T190000Z
X-MICROSOFT-CDO-ALLDAYEVENT:FALSE
SUMMARY:Special Highlight Tour - Cars and Music
DESCRIPTION:Special Highlight Tour - Cars and Music\n\n\n\nFebruary 28\, 2026 at 1 PM\n\nSavoy Automobile Museum\n\n\n\nGuests are invited to join staff members for a tour exploring the dynamic relationship between the automobile and music industries.  From the earliest days of the automobile\, musicians have celebrated cars as symbols of freedom\, speed\, and modern life.  In turn\, automobile manufacturers have leveraged the power of music to promote their vehicles and the allure of car ownership.  This tour will examine not only vehicles but also works of art that demonstrate this long-standing and symbiotic relationship.\n\n\n\nThe tour is complimentary with museum admission.\n\n\n\nWe invite you to come see this amazing collection and take a nostalgic journey through the sounds and styles that shaped generations.
X-ALT-DESC;FMTTYPE=text/html:Special Highlight Tour - Cars and Music<br />\n<br />\nFebruary 28\, 2026 at 1 PM<br />\nSavoy Automobile Museum<br />\n<br />\nGuests are invited to join staff members for a tour exploring the dynamic relationship between the automobile and music industries.&nbsp\; From the earliest days of the automobile\, musicians have celebrated cars as symbols of freedom\, speed\, and modern life.&nbsp\; In turn\, automobile manufacturers have leveraged the power of music to promote their vehicles and the allure of car ownership.&nbsp\; This tour will examine not only vehicles but also works of art that demonstrate this long-standing and symbiotic relationship.<br />\n<br />\nThe tour is complimentary with museum admission.<br />\n<br />\nWe invite you to come see this amazing collection and take a nostalgic journey through the sounds and styles that shaped generations.
LOCATION:Savoy Automobile Museum 3 Savoy Lane Cartersville\, GA 30120
UID:e.1202.173599
SEQUENCE:3
DTSTAMP:20260421T190121Z
URL:https://business.cartersvillechamber.com/events/details/special-highlight-tour-cars-and-music-02-28-2026-173599
END:VEVENT

END:VCALENDAR
