BEGIN:VCALENDAR
VERSION:2.0
PRODID:-//ChamberMaster//Event Calendar 2.0//EN
METHOD:PUBLISH
X-PUBLISHED-TTL:P3D
REFRESH-INTERVAL:P3D
CALSCALE:GREGORIAN
BEGIN:VEVENT
DTSTART:20250624T220000Z
DTEND:20250624T230000Z
X-MICROSOFT-CDO-ALLDAYEVENT:FALSE
SUMMARY:Spice of Life
DESCRIPTION:Get your spice on! Our Spice of Life presentation will reveal the delicious and healthy secrets of various herbs and spices.
X-ALT-DESC;FMTTYPE=text/html:<span style="color:rgb(62\, 62\, 62)\; font-family:system-ui\; font-size:12.8px">Get your spice on! Our Spice of Life presentation will reveal the delicious and healthy secrets of various herbs and spices.</span>
LOCATION:Cartersville Library
UID:e.1202.171027
SEQUENCE:3
DTSTAMP:20260422T063352Z
URL:https://business.cartersvillechamber.com/events/details/spice-of-life-171027
END:VEVENT

END:VCALENDAR
