BEGIN:VCALENDAR
VERSION:2.0
PRODID:-//ChamberMaster//Event Calendar 2.0//EN
METHOD:PUBLISH
X-PUBLISHED-TTL:P3D
REFRESH-INTERVAL:P3D
CALSCALE:GREGORIAN
BEGIN:VEVENT
DTSTART:20250329T170000Z
DTEND:20250329T200000Z
X-MICROSOFT-CDO-ALLDAYEVENT:FALSE
SUMMARY:Spring Fling
DESCRIPTION:Come join us at Allatoona Elementary School for games\, vendor booths\, live music\, food trucks and more! Event will be rain or shine! If interested in setting up a vendor booth\, contact Tara at 470-334-1992.
X-ALT-DESC;FMTTYPE=text/html:Come join us at Allatoona Elementary School for games\, vendor booths\, live music\, food trucks and more! Event will be rain or shine! If interested in setting up a vendor booth\, contact Tara at 470-334-1992.
LOCATION:Allatoona Elementary School 4150 New Hope Church Rd Acworth\, GA 30102
UID:e.1202.168699
SEQUENCE:3
DTSTAMP:20260422T102741Z
URL:https://business.cartersvillechamber.com/events/details/spring-fling-168699
END:VEVENT

END:VCALENDAR
