BEGIN:VCALENDAR
VERSION:2.0
PRODID:-//ChamberMaster//Event Calendar 2.0//EN
METHOD:PUBLISH
X-PUBLISHED-TTL:P3D
REFRESH-INTERVAL:P3D
CALSCALE:GREGORIAN
BEGIN:VEVENT
DTSTART:20250510T140000Z
DTEND:20250510T160000Z
X-MICROSOFT-CDO-ALLDAYEVENT:FALSE
SUMMARY:Springtime Stitch Embroidery Workshop
DESCRIPTION:Stitch Your Spring Blooms at Our Springtime Stitch Embroidery Workshop! Join us for a hands-on embroidery experience this spring! Celebrate the season by stitching a wild rose design with handspun silk. Led by Leslie Bronson\, a needlework artist with over 30 years of experience\, this workshop costs $25 and includes all materials. Celebrate Mother's Day early! Use code MOM at checkout when purchasing two tickets to save $5 off each ticket. Registration required space is limited\, so reserve your spot today!
X-ALT-DESC;FMTTYPE=text/html:Stitch Your Spring Blooms at Our Springtime Stitch Embroidery Workshop! Join us for a hands-on embroidery experience this spring! Celebrate the season by stitching a wild rose design with handspun silk. Led by Leslie Bronson\, a needlework artist with over 30 years of experience\, this workshop costs $25 and includes all materials. Celebrate Mother&rsquo\;s Day early! Use code MOM at checkout when purchasing two tickets to save $5 off each ticket. Registration required&mdash\;space is limited\, so reserve your spot today!
LOCATION:4 E Church St. Cartersville\, GA 30121
UID:e.1202.170120
SEQUENCE:3
DTSTAMP:20260422T080116Z
URL:https://business.cartersvillechamber.com/events/details/springtime-stitch-embroidery-workshop-170120
END:VEVENT

END:VCALENDAR
