BEGIN:VCALENDAR
VERSION:2.0
PRODID:-//ChamberMaster//Event Calendar 2.0//EN
METHOD:PUBLISH
X-PUBLISHED-TTL:P3D
REFRESH-INTERVAL:P3D
CALSCALE:GREGORIAN
BEGIN:VEVENT
DTSTART;VALUE=DATE:20250314
DTEND;VALUE=DATE:20250315
TRANSP:TRANSPARENT
X-MICROSOFT-CDO-ALLDAYEVENT:TRUE
SUMMARY:St. Paddy's Pub Crawl
DESCRIPTION:St. Paddy's Pub Crawl\n\nPresented by H&R Block\n\n\n\nLearn More & Purchase Tickets\n\n\n\nJoin us for our annual St. Paddy's Day Pub Crawl in the heart of Cartersville on March 14th & 15th! This year there are a total of 12 stops for you to enjoy and celebrate. Make sure to wear your greenest of greens and get your friends together for 2 days of festive drinks\, live music\, and pub (restaurant) hopping.\n\n\n\nParticipants must be 21 years of age or older.\n\n\n\nEveryone is asked to please drink responsibly. For any additional questions\, please contact the Cartersville Downtown Development Authority at 770-607-3480.\n\n\n\nLearn More & Purchase Tickets
X-ALT-DESC;FMTTYPE=text/html:<span style="font-size:14px\;"><strong>St. Paddy&#39\;s Pub Crawl</strong><br />\n<em>Presented by H&amp\;R Block</em></span><br />\n<br />\n<a href="https://downtowncartersville.org/product/st-pattys-pub-crawl-2025/" target="_blank">Learn More &amp\; Purchase Tickets</a><br />\n<br />\nJoin us for our annual St. Paddy&rsquo\;s Day Pub Crawl in the heart of Cartersville on March 14th &amp\; 15th! This year there are a total of 12 stops for you to enjoy and celebrate. Make sure to wear your greenest of greens and get your friends together for 2 days of festive drinks\, live music\, and pub (restaurant) hopping.<br />\n<br />\n<strong>Participants must be 21 years of age or older.</strong><br />\n<br />\nEveryone is asked to please drink responsibly. For any additional questions\, please contact the Cartersville Downtown Development Authority at 770-607-3480.<br />\n<br />\n<a href="https://downtowncartersville.org/product/st-pattys-pub-crawl-2025/" target="_blank">Learn More &amp\; Purchase Tickets</a>
LOCATION:Various Restaurants and Bars in Downtown Cartersville
UID:e.1202.168711
SEQUENCE:3
DTSTAMP:20260422T102952Z
URL:https://business.cartersvillechamber.com/events/details/st-paddy-s-pub-crawl-168711
END:VEVENT

END:VCALENDAR
