BEGIN:VCALENDAR
VERSION:2.0
PRODID:-//ChamberMaster//Event Calendar 2.0//EN
METHOD:PUBLISH
X-PUBLISHED-TTL:P3D
REFRESH-INTERVAL:P3D
CALSCALE:GREGORIAN
BEGIN:VEVENT
DTSTART:20240518T213000Z
DTEND:20240519T030000Z
X-MICROSOFT-CDO-ALLDAYEVENT:FALSE
SUMMARY:Star Party
DESCRIPTION:SHOOT FOR THE STARS WITH TELLUS SCIENCE MUSEUM AT OUR NATIONAL ASTRONOMY DAY STAR PARTY! The celebration kicks-off at 5:30 PM with solar viewing in our Observatory and activities in the Museum for astronomers of all ages. Make a mission medallion\, design a spaceship/moonbase\, grab some fun NASA giveaways\, and more. Once it's dark\, head outside to view objects in the evening sky such as the Moon\, Gamma Leo\, and the Hercules Globular Cluster. Then\, join us at 9:30\, 10\, and 10:15 PM for star walks on the Museum grounds that will feature a live tour of the night sky.
X-ALT-DESC;FMTTYPE=text/html:SHOOT FOR THE STARS WITH TELLUS SCIENCE MUSEUM AT OUR NATIONAL ASTRONOMY DAY STAR PARTY! The celebration kicks-off at 5:30 PM with solar viewing in our Observatory and activities in the Museum for astronomers of all ages. Make a mission medallion\, design a spaceship/moonbase\, grab some fun NASA giveaways\, and more. Once it&rsquo\;s dark\, head outside to view objects in the evening sky such as the Moon\, Gamma Leo\, and the Hercules Globular Cluster. Then\, join us at 9:30\, 10\, and 10:15 PM for star walks on the Museum grounds that will feature a live tour of the night sky.
LOCATION:Tellus Science Museum
UID:e.1202.164291
SEQUENCE:3
DTSTAMP:20260423T003759Z
URL:https://business.cartersvillechamber.com/events/details/star-party-164291
END:VEVENT

END:VCALENDAR
