BEGIN:VCALENDAR
VERSION:2.0
PRODID:-//ChamberMaster//Event Calendar 2.0//EN
METHOD:PUBLISH
X-PUBLISHED-TTL:P3D
REFRESH-INTERVAL:P3D
CALSCALE:GREGORIAN
BEGIN:VEVENT
DTSTART:20251130T010000Z
DTEND:20251130T021500Z
X-MICROSOFT-CDO-ALLDAYEVENT:FALSE
SUMMARY:Starry\, Starry Night
DESCRIPTION:Join us as we explore the night sky at Red Top Mountain. We will discuss celestial bodies and gaze upon them through a telescope. We will also look at the different constellations and explore their mythology. Don't miss out on this splendid experience! This event requires preregistration\, so please contact the Visitor Center to make your reservations. The program is free\, but space is limited. We kindly ask that you wear appropriate clothing and footwear. While light sources are encouraged\, please use flashlights or lamps that have a red light setting.
X-ALT-DESC;FMTTYPE=text/html:Join us as we explore the night sky at Red Top Mountain. We will discuss celestial bodies and gaze upon them through a telescope. We will also look at the different constellations and explore their mythology. Don&rsquo\;t miss out on this splendid experience! This event requires preregistration\, so please contact the Visitor Center to make your reservations. The program is free\, but space is limited. We kindly ask that you wear appropriate clothing and footwear. While light sources are encouraged\, please use flashlights or lamps that have a red light setting.
LOCATION:Red Top Mountain State Park 15 Iron Hill Cove. Acworth\, GA 30102
UID:e.1202.172076
SEQUENCE:3
DTSTAMP:20260421T231336Z
URL:https://business.cartersvillechamber.com/events/details/starry-starry-night-11-29-2025-172076
END:VEVENT

END:VCALENDAR
