BEGIN:VCALENDAR
VERSION:2.0
PRODID:-//ChamberMaster//Event Calendar 2.0//EN
METHOD:PUBLISH
X-PUBLISHED-TTL:P3D
REFRESH-INTERVAL:P3D
CALSCALE:GREGORIAN
BEGIN:VEVENT
DTSTART:20251107T150000Z
DTEND:20251107T170000Z
X-MICROSOFT-CDO-ALLDAYEVENT:FALSE
SUMMARY:"Start-Up Business - Financial Plan" Online Workshop
DESCRIPTION:"Start-Up Business - Financial Plan" Online Workshop\n\n\n\nFriday\, November 7\, 2025\, 10:00 AM - 12:00 PM\n\nFee: $10\n\n\n\nWill My Business Idea Be Profitable? Financial Planning Provides The Answer\n\n\n\nThis Live Online Workshop will help you in developing a full understanding of the profitability of your business concept. You will learn which costs and expenses need to be included in your Profit/Loss calculations.\n\n\n\nAs importantly\, you will be able to forecast the Cash Flow of your enterprise. Maintaining positive cash flow is the key fundamental ensuring the longevity of your company.\n\n\n\nYou will be shown how the basic financial elements tie together:\n\n	Income Statement - Profit and Loss\n	Balance Sheet - Assets and Liabilities\n	Cash Flow\n	Sales Forecast\n\n\n\nBy the end of the Workshop you will have gathered the data that will tell you if the commitment of your time\, effort\, and personal assets will generate the profits that make it all worth it.\n\n\n\nYou will have the opportunity to have your questions answered both during and at the conclusion of the Workshop. A copy of the presentation is provided to those who complete the brief Feedback Survey at the end of the session.\n\n\n\nRegister Online
X-ALT-DESC;FMTTYPE=text/html:<strong>&quot\;Start-Up Business - Financial Plan&quot\; Online Workshop<br />\n<br />\nFriday\, November 7\, 2025\, 10:00 AM - 12:00 PM<br />\nFee: $10</strong><br />\n<br />\n<strong><em>Will My Business Idea Be Profitable? Financial Planning Provides The Answer</em></strong><br />\n<br />\nThis <strong>Live Online Workshop</strong> will help you in developing a full understanding of the profitability of your business concept. You will learn which costs and expenses need to be included in your Profit/Loss calculations.<br />\n<br />\nAs importantly\, you will be able to forecast the Cash Flow of your enterprise. Maintaining positive cash flow is the key fundamental ensuring the longevity of your company.<br />\n<br />\nYou will be shown how the basic financial elements tie together:\n<ul>\n	<li>Income Statement - Profit and Loss</li>\n	<li>Balance Sheet - Assets and Liabilities</li>\n	<li>Cash Flow</li>\n	<li>Sales Forecast</li>\n</ul>\n<br />\nBy the end of the Workshop you will have gathered the data that will tell you if the commitment of your time\, effort\, and personal assets will generate the profits that make it all worth it.<br />\n<br />\nYou will have the opportunity to have your questions answered both during and at the conclusion of the Workshop. A copy of the presentation is provided to those who complete the brief Feedback Survey at the end of the session.<br />\n<br />\n<strong><a href="https://www.score.org/northmetroatlanta/event/start-business-financial-plan-18" target="_blank">Register Online</a></strong>
LOCATION:Live Online Workshop
UID:e.1202.171965
SEQUENCE:3
DTSTAMP:20260421T231438Z
URL:https://business.cartersvillechamber.com/events/details/start-up-business-financial-plan-online-workshop-171965
END:VEVENT

END:VCALENDAR
