BEGIN:VCALENDAR
VERSION:2.0
PRODID:-//ChamberMaster//Event Calendar 2.0//EN
METHOD:PUBLISH
X-PUBLISHED-TTL:P3D
REFRESH-INTERVAL:P3D
CALSCALE:GREGORIAN
BEGIN:VEVENT
DTSTART:20251017T140000Z
DTEND:20251017T160000Z
X-MICROSOFT-CDO-ALLDAYEVENT:FALSE
SUMMARY:"Start-Up Business Marketing Plan" Workshop
DESCRIPTION:"Start-Up Business Marketing Plan" Workshop\n\n\n\nFriday\, October 17\, 2025\, 10 AM - 12 PM\n\nFee: $10\n\n\n\nCan You Win? Your Marketing Plan Shows You How\n\n\n\nThis Live Online Workshop teaches how to create a Marketing Plan that can guide you to be a commercial success. You will be instructed in how to:\n\n	identify which customers are the most profitable \n	attract customers and keep them\n	learn who your real competition is\n	differentiate yourself in the market\n\n\n\nImplementation of your Marketing Plan\, will cover:\n\n\n	pricing \n	advertising \n	website design \n	supply chain \n	branding \n	social media tactics\n\n\n\nTo be successful you not only need a good product idea but a true understanding of the marketplace so that You Can Win!\n\n\n\nYou will have the opportunity to have your questions answered both during and at the conclusion of the Workshop. A copy of the presentation will be provided to those who complete the short Feedback Survey at the end of the session.\n\n\n\nRegister Online
X-ALT-DESC;FMTTYPE=text/html:<strong>&quot\;Start-Up Business Marketing Plan&quot\; Workshop<br />\n<br />\nFriday\, October 17\, 2025\, 10 AM - 12 PM<br />\nFee: $10</strong><br />\n<br />\n<strong>Can You Win?&nbsp\;</strong><strong>Your Marketing Plan Shows You How</strong><br />\n<br />\nThis <strong>Live Online Workshop</strong> teaches how to create a <strong>Marketing Plan</strong> that can guide you to be a commercial success. You will be instructed in how to:\n<ul>\n	<li>identify which customers are the most profitable&nbsp\;</li>\n	<li>attract customers and keep them</li>\n	<li>learn who your real competition is</li>\n	<li>differentiate yourself in the market</li>\n</ul>\n<br />\nImplementation of your <strong>Marketing Plan</strong>\, will cover:\n\n<ul>\n	<li>pricing&nbsp\;</li>\n	<li>advertising&nbsp\;</li>\n	<li>website design&nbsp\;</li>\n	<li>supply chain&nbsp\;</li>\n	<li>branding&nbsp\;</li>\n	<li>social media tactics</li>\n</ul>\n<br />\nTo be successful you not only need a good product idea but a true understanding of the marketplace so that <strong>You Can Win!</strong><br />\n<br />\nYou will have the opportunity to have your questions answered both during and at the conclusion of the Workshop. A copy of the presentation will be provided to those who complete the short Feedback Survey at the end of the session.<br />\n<br />\n<a href="https://www.score.org/northmetroatlanta/event/start-business-marketing-plan-19" target="_blank"><strong>Register Online</strong></a>
LOCATION:Online Workshop
UID:e.1202.171962
SEQUENCE:3
DTSTAMP:20260422T003734Z
URL:https://business.cartersvillechamber.com/events/details/start-up-business-marketing-plan-workshop-171962
END:VEVENT

END:VCALENDAR
