BEGIN:VCALENDAR
VERSION:2.0
PRODID:-//ChamberMaster//Event Calendar 2.0//EN
METHOD:PUBLISH
X-PUBLISHED-TTL:P3D
REFRESH-INTERVAL:P3D
CALSCALE:GREGORIAN
BEGIN:VEVENT
DTSTART:20250103T150000Z
DTEND:20250103T170000Z
X-MICROSOFT-CDO-ALLDAYEVENT:FALSE
SUMMARY:"Starting a Business - Are You Ready?" Workshop
DESCRIPTION:"Starting a Business - Are You Ready?" Workshop\n\n\n\nFriday\, January 3\, 2025\, 10 AM - 12 PM\n\nFee: Free\n\n\n\nStarting a successful business requires more than a great idea\, conviction\, and ceaseless energy to make it happen. A thorough Self-Assessment will identify your readiness to begin the journey to Start Your Own Business.\n\n\n\nIn this Live Online Workshop you will:\n\n	evaluate your preparedness to start a business\n	identify financial and other necessary resources\n	learn about business legal structures \n	begin the collection of data to build your business plan\n\nYou will have the opportunity to have your questions answered both during and at the conclusion of the Workshop.\n\n\n\nRegister Online
X-ALT-DESC;FMTTYPE=text/html:<strong>&quot\;Starting a Business - Are You Ready?&quot\; Workshop<br />\n<br />\nFriday\, January 3\, 2025\, 10 AM - 12 PM<br />\nFee: Free</strong><br />\n<br />\nStarting a successful business requires more than a great idea\, conviction\, and ceaseless energy to make it happen. A thorough Self-Assessment will identify your readiness to begin the journey to Start Your Own Business.<br />\n<br />\nIn this <strong>Live Online Workshop</strong> you will:\n<ul>\n	<li>evaluate your preparedness to start a business</li>\n	<li>identify financial and other necessary resources</li>\n	<li>learn about business legal structures&nbsp\;</li>\n	<li>begin the collection of data to build your business plan</li>\n</ul>\nYou will have the opportunity to have your questions answered both during and at the conclusion of the Workshop.<br />\n<br />\n<a href="https://www.score.org/northmetroatlanta/event/starting-a-business-are-you-ready-16" target="_blank"><strong>Register Online</strong></a>
LOCATION:Online Workshop
UID:e.1202.167585
SEQUENCE:3
DTSTAMP:20260422T130317Z
URL:https://business.cartersvillechamber.com/events/details/starting-a-business-are-you-ready-workshop-167585
END:VEVENT

END:VCALENDAR
