BEGIN:VCALENDAR
VERSION:2.0
PRODID:-//ChamberMaster//Event Calendar 2.0//EN
METHOD:PUBLISH
X-PUBLISHED-TTL:P3D
REFRESH-INTERVAL:P3D
CALSCALE:GREGORIAN
BEGIN:VEVENT
DTSTART:20250218T150000Z
DTEND:20250218T170000Z
X-MICROSOFT-CDO-ALLDAYEVENT:FALSE
SUMMARY:"Starting a Nonprofit" Workshop
DESCRIPTION:"How to Start a Nonprofit" Workshop\n\n\n\nTuesday\, February 18\, 2025\, 10:00 AM - 12:00 PM\n\nOnline Workshop\n\nFee: Free\n\n\n\nReady to turn your vision into reality? Join us for a practical workshop that offers step-by-step guidance on establishing a nonprofit public charity. Ideal for those who have already decided to form a nonprofit\, this session covers the essential stages from conception to achieving tax-exempt status and beyond. \n\n\n\nWhat You'll Learn:\n\n	Board Recruitment: Strategies for assembling a dedicated and effective Board of Directors.\n	Formation Steps: The seven critical steps to forming a nonprofit public charity.\n	Compliance Obligations: Key state and federal compliance requirements for public charities.\n	Sustainable Funding: How to fund and sustain your nonprofit from day one.\n\n\n\nRegister Online
X-ALT-DESC;FMTTYPE=text/html:<span style="font-size:16px\;"><span style="font-size:18px\;"><strong>&quot\;How to Start a Nonprofit&quot\; Workshop</strong></span></span><br />\n<br />\n<strong>Tuesday\, February 18\, 2025\, 10:00 AM - 12:00 PM<br />\nOnline Workshop<br />\nFee: Free</strong><br />\n<br />\nReady to turn your vision into reality? Join us for a practical workshop that offers step-by-step guidance on establishing a nonprofit public charity. Ideal for those who have already decided to form a nonprofit\, this session covers the essential stages from conception to achieving tax-exempt status and beyond.&nbsp\;<br />\n<br />\n<strong>What You&rsquo\;ll Learn:</strong>\n<ol>\n	<li>Board Recruitment: Strategies for assembling a dedicated and effective Board of Directors.</li>\n	<li>Formation Steps: The seven critical steps to forming a nonprofit public charity.</li>\n	<li>Compliance Obligations: Key state and federal compliance requirements for public charities.</li>\n	<li>Sustainable Funding: How to fund and sustain your nonprofit from day one.</li>\n</ol>\n<br />\n<a href="https://www.score.org/northmetroatlanta/event/starting-a-nonprofit-a-step-step-guide" target="_blank">Register Online</a>
LOCATION:Online Workshop
UID:e.1202.168677
SEQUENCE:3
DTSTAMP:20260422T115458Z
URL:https://business.cartersvillechamber.com/events/details/starting-a-nonprofit-workshop-168677
END:VEVENT

END:VCALENDAR
