BEGIN:VCALENDAR
VERSION:2.0
PRODID:-//ChamberMaster//Event Calendar 2.0//EN
METHOD:PUBLISH
X-PUBLISHED-TTL:P3D
REFRESH-INTERVAL:P3D
CALSCALE:GREGORIAN
BEGIN:VEVENT
DTSTART:20240909T220000Z
DTEND:20240910T013000Z
X-MICROSOFT-CDO-ALLDAYEVENT:FALSE
SUMMARY:Sterile Processing Technician (Through 11/25/24)
DESCRIPTION:Sterile Processing Technicians perform and participate in decontamination\, cleaning\, assembling\, packaging\, scanning\, sterilization\, storage\, and distribution of reusable surgical instrumentation and equipment. These Technicians play a critical role in preventing infection by sterilizing\, cleaning\, processing\, assembling\, storing\, and distributing medical supplies. The central service department of a health care facility is the hub of all activity surrounding supplies and equipment needed for surgery and patient care.
X-ALT-DESC;FMTTYPE=text/html:Sterile Processing Technicians perform and participate in decontamination\, cleaning\, assembling\, packaging\, scanning\, sterilization\, storage\, and distribution of reusable surgical instrumentation and equipment. These Technicians play a critical role in preventing infection by sterilizing\, cleaning\, processing\, assembling\, storing\, and distributing medical supplies. The central service department of a health care facility is the hub of all activity surrounding supplies and equipment needed for surgery and patient care.
LOCATION:GHC Cartersville Campus
UID:e.1202.166148
SEQUENCE:3
DTSTAMP:20260422T185105Z
URL:https://business.cartersvillechamber.com/events/details/sterile-processing-technician-through-11-25-24-166148
END:VEVENT

END:VCALENDAR
