BEGIN:VCALENDAR
VERSION:2.0
PRODID:-//ChamberMaster//Event Calendar 2.0//EN
METHOD:PUBLISH
X-PUBLISHED-TTL:P3D
REFRESH-INTERVAL:P3D
CALSCALE:GREGORIAN
BEGIN:VEVENT
DTSTART:20250618T170000Z
DTEND:20250618T180000Z
X-MICROSOFT-CDO-ALLDAYEVENT:FALSE
SUMMARY:"Streamline Your AI - Transforming LLMs into Efficient\, Specialized Solutions" Workshop
DESCRIPTION:"Streamline Your AI - Transforming LLMs into Efficient\, Specialized Solutions" Workshop\n\n\n\nWednesday\, June 18\, 2025\, 1 PM - 2 PM\n\nFee: Free\n\n\n\nAs artificial intelligence continues to evolve\, organizations are finding out that bigger isn't always better when it comes to language models. This webinar will help business owners learn how to turn large language models (LLMs) into smaller\, specialized models that deliver targeted performance at a fraction of the cost.\n\n\n\nIn this session\, we'll explore techniques like knowledge distillation and model pruning to create more efficient AI solutions for your business. We'll discuss how these streamlined models can run more effectively on your devices\, reducing costs while maintaining the intelligence and accuracy your business requires. \n\n\n\nLearning Objectives:\n\n	Understanding the business case for model distillation versus large-scale deployments\n	Mastering knowledge distillation and pruning techniques for your specific use cases\n	Implementing specialized AI solutions within existing infrastructure constraints\n	Building a distributed AI strategy that scales across workstations\n\n\n\nRegister Online
X-ALT-DESC;FMTTYPE=text/html:<strong>&quot\;Streamline Your AI - Transforming LLMs into Efficient\, Specialized Solutions</strong><strong>&quot\; Workshop<br />\n<br />\nWednesday\, June 18\, 2025\, 1 PM - 2 PM<br />\nFee: Free</strong><br />\n<br />\nAs artificial intelligence continues to evolve\, organizations are finding out that bigger isn&#39\;t always better when it comes to language models. This webinar will help business owners learn how to turn large language models (LLMs) into smaller\, specialized models that deliver targeted performance at a fraction of the cost.<br />\n<br />\nIn this session\, we&#39\;ll explore techniques like knowledge distillation and model pruning to create more efficient AI solutions for your business. We&#39\;ll discuss how these streamlined models can run more effectively on your devices\, reducing costs while maintaining the intelligence and accuracy your business requires.&nbsp\;<br />\n<br />\nLearning Objectives:\n<ul>\n	<li>Understanding the business case for model distillation versus large-scale deployments</li>\n	<li>Mastering knowledge distillation and pruning techniques for your specific use cases</li>\n	<li>Implementing specialized AI solutions within existing infrastructure constraints</li>\n	<li>Building a distributed AI strategy that scales across workstations</li>\n</ul>\n<br />\n<a href="https://www.score.org/event/streamline-your-ai-transforming-llms-efficient-specialized-solutions" target="_blank"><strong>Register Online</strong></a>
LOCATION:Online Workshop
UID:e.1202.171001
SEQUENCE:3
DTSTAMP:20260422T061050Z
URL:https://business.cartersvillechamber.com/events/details/streamline-your-ai-transforming-llms-into-efficient-specialized-solutions-workshop-171001
END:VEVENT

END:VCALENDAR
