BEGIN:VCALENDAR
VERSION:2.0
PRODID:-//ChamberMaster//Event Calendar 2.0//EN
METHOD:PUBLISH
X-PUBLISHED-TTL:P3D
REFRESH-INTERVAL:P3D
CALSCALE:GREGORIAN
BEGIN:VEVENT
DTSTART:20250609T130000Z
DTEND:20250613T160000Z
X-MICROSOFT-CDO-ALLDAYEVENT:FALSE
SUMMARY:Summer Camp: Big Top Bonanza!
DESCRIPTION:Step Right Up! The Circus is Coming to Bartow History Museum's Summer Camp! The circus is rolling into town\, and the Bartow History Museum is bringing all the excitement to young campers this summer! Children ages 5-7 are invited to join Big Top Bonanza\, a weeklong summer camp filled with circus-themed fun\, history\, and hands-on activities. Throughout the week\, campers will explore the fascinating world of circus animals\, learn about legendary performers\, and experience the thrill of classic carnival games. This engaging program offers a unique opportunity for children to connect with history in a fun and interactive way. Registration is now open! Spaces are limited\, so early registration is encouraged.
X-ALT-DESC;FMTTYPE=text/html:Step Right Up! The Circus is Coming to Bartow History Museum&rsquo\;s Summer Camp! The circus is rolling into town\, and the Bartow History Museum is bringing all the excitement to young campers this summer! Children ages 5-7 are invited to join Big Top Bonanza\, a weeklong summer camp filled with circus-themed fun\, history\, and hands-on activities. Throughout the week\, campers will explore the fascinating world of circus animals\, learn about legendary performers\, and experience the thrill of classic carnival games. This engaging program offers a unique opportunity for children to connect with history in a fun and interactive way. Registration is now open! Spaces are limited\, so early registration is encouraged.
LOCATION:Bartow History Museum 4 E Church St. Cartersville\, GA 30120
UID:e.1202.168704
SEQUENCE:3
DTSTAMP:20260422T063306Z
URL:https://business.cartersvillechamber.com/events/details/summer-camp-big-top-bonanza-168704
END:VEVENT

END:VCALENDAR
