BEGIN:VCALENDAR
VERSION:2.0
PRODID:-//ChamberMaster//Event Calendar 2.0//EN
METHOD:PUBLISH
X-PUBLISHED-TTL:P3D
REFRESH-INTERVAL:P3D
CALSCALE:GREGORIAN
BEGIN:VEVENT
DTSTART:20250610T190000Z
DTEND:20250610T230000Z
X-MICROSOFT-CDO-ALLDAYEVENT:FALSE
SUMMARY:Summer Reading Program Family Pictures!
DESCRIPTION:What better way to remember Summer Reading 2025 than to grab a family snapshot of it? Drop in at the Cartersville Library on Tuesday\, June 10th from 3-7pm for a family photoshoot opportunity! Families will be able to use a few of our summer themed props in their photos. Photos will be delivered to an active email address free of charge (2 photos per family) after the event. No registration required\, just stop in and make some memories.
X-ALT-DESC;FMTTYPE=text/html:<span style="background-color:transparent\; color:rgb(0\, 0\, 0)\; font-family:times new roman\,serif\; font-size:11pt">What better way to remember Summer Reading 2025 than to grab a family snapshot of it? Drop in at the Cartersville Library on Tuesday\, June 10</span><span style="background-color:transparent\; color:rgb(0\, 0\, 0)\; font-family:times new roman\,serif\; font-size:11pt"><span style="font-size:0.6em">th</span></span><span style="background-color:transparent\; color:rgb(0\, 0\, 0)\; font-family:times new roman\,serif\; font-size:11pt"> from 3-7pm for a family photoshoot opportunity! Families will be able to use a few of our summer themed props in their photos. Photos will be delivered to an active email address free of charge (2 photos per family) after the event. No registration required\, just stop in and make some memories.&nbsp\;</span>\n<div>&nbsp\;</div>\n
LOCATION:Cartersville Library 429 W Main St Cartersville\, GA 30120
UID:e.1202.171023
SEQUENCE:3
DTSTAMP:20260422T061552Z
URL:https://business.cartersvillechamber.com/events/details/summer-reading-program-family-pictures-171023
END:VEVENT

END:VCALENDAR
