BEGIN:VCALENDAR
VERSION:2.0
PRODID:-//ChamberMaster//Event Calendar 2.0//EN
METHOD:PUBLISH
X-PUBLISHED-TTL:P3D
REFRESH-INTERVAL:P3D
CALSCALE:GREGORIAN
BEGIN:VEVENT
DTSTART:20250219T200000Z
DTEND:20250219T210000Z
X-MICROSOFT-CDO-ALLDAYEVENT:FALSE
SUMMARY:Sundae Float Craft
DESCRIPTION:Join Sarah Easton to make sundae floats\, using wrapped candies and other supplies\, that are good enough to eat! No registration required. Adults only please. Limited to the first 25 participants.
X-ALT-DESC;FMTTYPE=text/html:<span style="color:rgb(62\, 62\, 62)\; font-family:system-ui\; font-size:12.8px">Join Sarah Easton to make sundae floats\, using wrapped candies and other supplies\, that are good enough to eat!</span><span style="color:rgb(62\, 62\, 62)\; font-family:system-ui\; font-size:12.8px">&nbsp\;</span><span style="color:rgb(62\, 62\, 62)\; font-family:system-ui\; font-size:12.8px">No registration required. Adults only please. Limited to the first 25 participants.</span>
LOCATION:Cartersville Library Classroom
UID:e.1202.168667
SEQUENCE:3
DTSTAMP:20260422T114520Z
URL:https://business.cartersvillechamber.com/events/details/sundae-float-craft-168667
END:VEVENT

END:VCALENDAR
