BEGIN:VCALENDAR
VERSION:2.0
PRODID:-//ChamberMaster//Event Calendar 2.0//EN
METHOD:PUBLISH
X-PUBLISHED-TTL:P3D
REFRESH-INTERVAL:P3D
CALSCALE:GREGORIAN
BEGIN:VEVENT
DTSTART:20260228T140000Z
DTEND:20260228T160000Z
X-MICROSOFT-CDO-ALLDAYEVENT:FALSE
SUMMARY:Super Hero 5K
DESCRIPTION:Put on your cape\, bring the family and come walk or run with us to support Helping Hands For Bartow Kids.
X-ALT-DESC;FMTTYPE=text/html:Put on your cape\, bring the family and come walk or run with us to support Helping Hands For Bartow Kids.
LOCATION:Sam Smith Park
UID:e.1202.173617
SEQUENCE:3
DTSTAMP:20260421T174043Z
URL:https://business.cartersvillechamber.com/events/details/super-hero-5k-02-28-2026-173617
END:VEVENT

END:VCALENDAR
