BEGIN:VCALENDAR
VERSION:2.0
PRODID:-//ChamberMaster//Event Calendar 2.0//EN
METHOD:PUBLISH
X-PUBLISHED-TTL:P3D
REFRESH-INTERVAL:P3D
CALSCALE:GREGORIAN
BEGIN:VEVENT
DTSTART:20260131T140000Z
DTEND:20260131T160000Z
X-MICROSOFT-CDO-ALLDAYEVENT:FALSE
SUMMARY:Super Hero 5K
DESCRIPTION:Helping Hands for Bartow Kids Super Hero 5K is happening January 31st at Sam Smith Park\, and we want this to be more than just a race   we want it to be a community day\, a family day\, a day where Bartow shows up for Bartow. We're beyond grateful to announce that Weaver Heating & Air is our Presenting Sponsor this year!\n\n\n\nNow let's talk about YOU\, Bartow County\n\nRun it\, walk it\, stroll it   bring the whole family.\n\nKids can dress up as their favorite superheroes!\n\n\n\nSponsors\, join us.\n\nVolunteers\, we need you.\n\n\n\nMost importantly   let's come together as a community. This is about families supporting families and neighbors supporting neighbors. Every step you take helps a child right here at home\, and that's something we can all stand behind. Let's make this our biggest\, loudest\, most family-filled 5K yet. Register at: https://runsignup.com/Race/GA/Cartersville/HHBKSUPERHERO5K
X-ALT-DESC;FMTTYPE=text/html:Helping Hands for Bartow Kids Super Hero 5K is happening January 31st at Sam Smith Park\, and we want this to be more than just a race &mdash\; we want it to be a community day\, a family day\, a day where Bartow shows up for Bartow. We&rsquo\;re beyond grateful to announce that Weaver Heating &amp\; Air is our Presenting Sponsor this year!<br />\n<br />\nNow let&rsquo\;s talk about YOU\, Bartow County<br />\nRun it\, walk it\, stroll it &mdash\; bring the whole family.<br />\nKids can dress up as their favorite superheroes!<br />\n<br />\nSponsors\, join us.<br />\nVolunteers\, we need you.<br />\n<br />\nMost importantly &mdash\; let&rsquo\;s come together as a community. This is about families supporting families and neighbors supporting neighbors. Every step you take helps a child right here at home\, and that&rsquo\;s something we can all stand behind. Let&rsquo\;s make this our biggest\, loudest\, most family-filled 5K yet. Register at: <a href="https://runsignup.com/Race/GA/Cartersville/HHBKSUPERHERO5K" target="_blank">https://runsignup.com/Race/GA/Cartersville/HHBKSUPERHERO5K</a>
LOCATION:Sam Smith Park
UID:e.1202.173219
SEQUENCE:3
DTSTAMP:20260421T201209Z
URL:https://business.cartersvillechamber.com/events/details/super-hero-5k-173219
END:VEVENT

END:VCALENDAR
