BEGIN:VCALENDAR
VERSION:2.0
PRODID:-//ChamberMaster//Event Calendar 2.0//EN
METHOD:PUBLISH
X-PUBLISHED-TTL:P3D
REFRESH-INTERVAL:P3D
CALSCALE:GREGORIAN
BEGIN:VEVENT
DTSTART:20251107T170000Z
DTEND:20251107T180000Z
X-MICROSOFT-CDO-ALLDAYEVENT:FALSE
SUMMARY:Survival Fire Starting
DESCRIPTION:Knowing how to construct\, start and maintain a viable fire is probably the most essential survival skill. Uses include\; cooking\, safety\, heat\, signaling\, and not becoming a human popsicle. Don't get left out in the cold! Come get properly educated! Meet at the Picnic Tables behind the Visitors Center.
X-ALT-DESC;FMTTYPE=text/html:Knowing how to construct\, start and maintain a viable fire is probably the most essential survival skill. Uses include\; cooking\, safety\, heat\, signaling\, and not becoming a human popsicle. Don&#39\;t get left out in the cold! Come get properly educated! Meet at the Picnic Tables behind the Visitors Center.
LOCATION:Red Top Mountain State Park 50 Lodge Rd Acworth\, GA 30102
UID:e.1202.172033
SEQUENCE:3
DTSTAMP:20260421T230815Z
URL:https://business.cartersvillechamber.com/events/details/survival-fire-starting-172033
END:VEVENT

END:VCALENDAR
