BEGIN:VCALENDAR
VERSION:2.0
PRODID:-//ChamberMaster//Event Calendar 2.0//EN
METHOD:PUBLISH
X-PUBLISHED-TTL:P3D
REFRESH-INTERVAL:P3D
CALSCALE:GREGORIAN
BEGIN:VEVENT
DTSTART:20250927T140000Z
DTEND:20250927T200000Z
X-MICROSOFT-CDO-ALLDAYEVENT:FALSE
SUMMARY:TableTop Guild for Adults
DESCRIPTION:Join our welcoming weekly tabletop roleplaying gamers at the Cartersville Library! Beginners and experienced players are welcome. Adults only\, please. Please contact Finley to ensure there is space in the group prior to attending for the first time: cartersvilletabletopguild@gmail.com.\n\n\n	Tuesdays from 5- 7:45pm: One-shots\, board games\, and other TTRPGs\n	Saturdays from 10am-1pm & 1pm-4pm: Ongoing bi-weekly campaign rotation
X-ALT-DESC;FMTTYPE=text/html:<div>\n<p>Join our welcoming weekly tabletop roleplaying gamers at the Cartersville Library! Beginners and experienced players are welcome. Adults only\, please. Please contact Finley to ensure there is space in the group prior to attending for the first time:&nbsp\;<a href="mailto:cartersvilletabletopguild@gmail.com">cartersvilletabletopguild@gmail.com</a>.</p>\n\n<ul>\n	<li>Tuesdays from 5- 7:45pm: One-shots\, board games\, and other TTRPGs</li>\n	<li>Saturdays from 10am-1pm &amp\; 1pm-4pm: Ongoing bi-weekly campaign rotation</li>\n</ul>\n</div>\n
LOCATION:Cartersville Public Library 429 West Main Street Cartersville\, GA 30120
UID:e.1202.169384
SEQUENCE:3
DTSTAMP:20260422T021149Z
URL:https://business.cartersvillechamber.com/events/details/tabletop-guild-for-adults-09-27-2025-169384
END:VEVENT

END:VCALENDAR
