BEGIN:VCALENDAR
VERSION:2.0
PRODID:-//ChamberMaster//Event Calendar 2.0//EN
METHOD:PUBLISH
X-PUBLISHED-TTL:P3D
REFRESH-INTERVAL:P3D
CALSCALE:GREGORIAN
BEGIN:VEVENT
DTSTART:20250306T190000Z
DTEND:20250306T200000Z
X-MICROSOFT-CDO-ALLDAYEVENT:FALSE
SUMMARY:Tai Chi
DESCRIPTION:Tai Chi for Arthritis and Fall Prevention: This class guides participants in practicing slow\, gentle movements and breathing techniques to improve balance\, strengthen muscles\, and increase flexibility. It helps alleviate symptoms of arthritis\, lower the risk of falling\, and improve overall health.\n\nClass sessions run for 1 hour and meet weekly for 8 weeks.  \n\nMovements from classes on YouTube.
X-ALT-DESC;FMTTYPE=text/html:<div>Tai Chi for Arthritis and Fall Prevention: This class guides participants in practicing slow\, gentle movements and breathing techniques to improve balance\, strengthen muscles\, and increase flexibility. It helps alleviate symptoms of arthritis\, lower the risk of falling\, and improve overall health.</div>\n\n<div>Class sessions run for 1 hour and meet weekly for 8 weeks. &nbsp\;<br />\nMovements from classes on&nbsp\;<a href="https://www.youtube.com/playlist?list=PLJZT5CnnpHU7Ooej2Lse_enaKY-c3ea9y" rel="noopener" style="color: rgb(51\, 51\, 51)\;" target="_blank">YouTube</a>.</div>\n
LOCATION:Cartersville Library Meeting Room
UID:e.1202.168724
SEQUENCE:3
DTSTAMP:20260422T102811Z
URL:https://business.cartersvillechamber.com/events/details/tai-chi-168724
END:VEVENT

END:VCALENDAR
