BEGIN:VCALENDAR
VERSION:2.0
PRODID:-//ChamberMaster//Event Calendar 2.0//EN
METHOD:PUBLISH
X-PUBLISHED-TTL:P3D
REFRESH-INTERVAL:P3D
CALSCALE:GREGORIAN
BEGIN:VEVENT
DTSTART:20251007T200000Z
DTEND:20251007T210000Z
X-MICROSOFT-CDO-ALLDAYEVENT:FALSE
SUMMARY:Tech Tutor Sessions
DESCRIPTION:Pop-in for assistance with learning how to use a computer\, phone\, or tablet! Assistance periods will be 15 minutes per person. Please bring your own devices and anything else you may need! No registration required. Adults only\, please.
X-ALT-DESC;FMTTYPE=text/html:<span style="color:rgb(62\, 62\, 62)\; font-family:system-ui\; font-size:12.8px">Pop-in for assistance with learning how to use a computer\, phone\, or tablet! Assistance periods will be 15 minutes per person.</span><span style="color:rgb(62\, 62\, 62)\; font-family:system-ui\; font-size:12.8px">&nbsp\;</span><span style="color:rgb(62\, 62\, 62)\; font-family:system-ui\; font-size:12.8px">Please bring your own devices and anything else you may need! No registration required. Adults only\, please.</span>
LOCATION:Cartersville Public Library
UID:e.1202.171882
SEQUENCE:3
DTSTAMP:20260422T003524Z
URL:https://business.cartersvillechamber.com/events/details/tech-tutor-sessions-10-07-2025-171882
END:VEVENT

END:VCALENDAR
