BEGIN:VCALENDAR
VERSION:2.0
PRODID:-//ChamberMaster//Event Calendar 2.0//EN
METHOD:PUBLISH
X-PUBLISHED-TTL:P3D
REFRESH-INTERVAL:P3D
CALSCALE:GREGORIAN
BEGIN:VEVENT
DTSTART:20251126T150000Z
DTEND:20251126T184500Z
X-MICROSOFT-CDO-ALLDAYEVENT:FALSE
SUMMARY:Thanksgiving Hayride
DESCRIPTION:Experience the beauty of autumn on a delightful hayride along the Iron Hill Trail! Join us for a memorable outing that is the perfect way to kick off the Thanksgiving holiday. Feel the crisp air and enjoy the stunning fall scenery as we depart from the Iron Hill trailhead. To ensure a comfortable and enjoyable experience\, please dress appropriately for the weather. It is important to arrive at the parking lot 10 minutes before departure. This will help us start on time and make the most of our day together. Your cooperation is greatly appreciated!
X-ALT-DESC;FMTTYPE=text/html:Experience the beauty of autumn on a delightful hayride along the Iron Hill Trail! Join us for a memorable outing that is the perfect way to kick off the Thanksgiving holiday. Feel the crisp air and enjoy the stunning fall scenery as we depart from the Iron Hill trailhead. To ensure a comfortable and enjoyable experience\, please dress appropriately for the weather. It is important to arrive at the parking lot 10 minutes before departure. This will help us start on time and make the most of our day together. Your cooperation is greatly appreciated!
LOCATION:Red Top Mountain State Park 15 Iron Hill Cove
UID:e.1202.172063
SEQUENCE:3
DTSTAMP:20260421T231133Z
URL:https://business.cartersvillechamber.com/events/details/thanksgiving-hayride-172063
END:VEVENT

END:VCALENDAR
