BEGIN:VCALENDAR
VERSION:2.0
PRODID:-//ChamberMaster//Event Calendar 2.0//EN
METHOD:PUBLISH
X-PUBLISHED-TTL:P3D
REFRESH-INTERVAL:P3D
CALSCALE:GREGORIAN
BEGIN:VEVENT
DTSTART:20241029T170000Z
DTEND:20241029T183000Z
X-MICROSOFT-CDO-ALLDAYEVENT:FALSE
SUMMARY:"The 5 Best Pricing Methods" Workshop
DESCRIPTION:"The 5 Best Pricing Methods - How to Choose a Pricing Strategy for Your Business" Workshop\n\n\n\nTuesday\, October 29\, 2024\, 1:00 PM - 2:30 PM\n\nFee: Free\n\n\n\nSetting the price of a product or service can be challenging for new entrepreneurs\, but there are structured processes for determining the best price for your business.\n\n\n\nIn this webinar\, we'll cover five pricing methods and how to implement them. We'll also discuss the advantages and disadvantages of each pricing method and demonstrate which pricing method is best for each type of business. \n\n\n\nLearning objectives:\n\n	Value Added Pricing\n	Cost Plus Pricing\n	Modified Cost Plus Pricing\n	Competitive Pricing\n	Value-Based Pricing\n\nWe will also discuss combining some of these methods to determine a specific price and sales volume\, while also generating a specified profit amount as part of the process.\n\n\n\nRegister Online
X-ALT-DESC;FMTTYPE=text/html:<strong>&quot\;The 5 Best Pricing Methods&nbsp\;- How to Choose a Pricing Strategy for Your Business&quot\; Workshop<br />\n<br />\nTuesday\, October 29\, 2024\, 1:00 PM - 2:30 PM<br />\nFee: Free</strong><br />\n<br />\nSetting the price of a product or service can be challenging for new entrepreneurs\, but there are structured processes for determining the best price for your business.<br />\n<br />\nIn this webinar\, we&rsquo\;ll cover five pricing methods and how to implement them. We&rsquo\;ll also discuss the advantages and disadvantages of each pricing method and demonstrate which pricing method is best for each type of business.&nbsp\;<br />\n<br />\nLearning objectives:\n<ul>\n	<li>Value Added Pricing</li>\n	<li>Cost Plus Pricing</li>\n	<li>Modified Cost Plus Pricing</li>\n	<li>Competitive Pricing</li>\n	<li>Value-Based Pricing</li>\n</ul>\nWe will also discuss combining some of these methods to determine a specific price and sales volume\, while also generating a specified profit amount as part of the process.<br />\n<br />\n<a href="https://www.score.org/event/5-best-pricing-methods-how-choose-a-pricing-strategy-your-business" target="_blank"><strong>Register Online</strong></a>
LOCATION:Online Workshop
UID:e.1202.166978
SEQUENCE:3
DTSTAMP:20260422T165049Z
URL:https://business.cartersvillechamber.com/events/details/the-5-best-pricing-methods-workshop-166978
END:VEVENT

END:VCALENDAR
