BEGIN:VCALENDAR
VERSION:2.0
PRODID:-//ChamberMaster//Event Calendar 2.0//EN
METHOD:PUBLISH
X-PUBLISHED-TTL:P3D
REFRESH-INTERVAL:P3D
CALSCALE:GREGORIAN
BEGIN:VEVENT
DTSTART:20250907T000000Z
DTEND:20250907T030000Z
X-MICROSOFT-CDO-ALLDAYEVENT:FALSE
SUMMARY:The Bartow Case Files: A Paranormal Workshop
DESCRIPTION:Unlock the Mysteries of the Night at The Bartow Case Files: A Paranormal Workshop! Have you ever heard something strange in the dark and wondered\, "What was that?" Or felt eyes on you when no one's there? The Bartow History Museum invites you to dive into the world of the unexplained with The Bartow Case Files: A Paranormal Workshop\, led by expert investigators Stefanie and Nick Forte. Get hands-on with the same gear paranormal pros use and learn the secrets behind real investigations all inside the spooky\, historic museum. Whether you're a skeptic or a believer\, this workshop offers a thrilling chance to experience what it's like to hunt for ghosts firsthand. Stefanie\, former guide of Canton Historic Haunts\, and her husband Nick\, whom she met at a paranormal research conference\, bring years of experience and stories that will keep you on the edge of your seat.
X-ALT-DESC;FMTTYPE=text/html:Unlock the Mysteries of the Night at The Bartow Case Files: A Paranormal Workshop! Have you ever heard something strange in the dark and wondered\, &ldquo\;What was that?&rdquo\; Or felt eyes on you when no one&rsquo\;s there? The Bartow History Museum invites you to dive into the world of the unexplained with The Bartow Case Files: A Paranormal Workshop\, led by expert investigators Stefanie and Nick Forte. Get hands-on with the same gear paranormal pros use and learn the secrets behind real investigations&mdash\;all inside the spooky\, historic museum. Whether you&rsquo\;re a skeptic or a believer\, this workshop offers a thrilling chance to experience what it&rsquo\;s like to hunt for ghosts firsthand. Stefanie\, former guide of Canton Historic Haunts\, and her husband Nick\, whom she met at a paranormal research conference\, bring years of experience and stories that will keep you on the edge of your seat.
LOCATION:Bartow History Museum 4 E Church St. Cartersville\, GA 30120
UID:e.1202.171719
SEQUENCE:3
DTSTAMP:20260422T020759Z
URL:https://business.cartersvillechamber.com/events/details/the-bartow-case-files-a-paranormal-workshop-171719
END:VEVENT

END:VCALENDAR
