BEGIN:VCALENDAR
VERSION:2.0
PRODID:-//ChamberMaster//Event Calendar 2.0//EN
METHOD:PUBLISH
X-PUBLISHED-TTL:P3D
REFRESH-INTERVAL:P3D
CALSCALE:GREGORIAN
BEGIN:VEVENT
DTSTART:20260506T200000Z
DTEND:20260506T210000Z
X-MICROSOFT-CDO-ALLDAYEVENT:FALSE
SUMMARY:"The Boomerpreneur Roadmap" Online Workshop
DESCRIPTION:"The Boomerpreneur Roadmap - How to Leverage Your Unique Advantages" Workshop\n\n\n\nWednesday\, May 6\, 2026\, 4:00 PM - 5:00 PM\n\nFee: Free\n\n\n\nStarting a business later in life can be a smart way to turn your experience\, skills\, and resources into income and independence. But many aspiring entrepreneurs over 50 are unsure where to start\, how to reduce risk or how to build a business in today's fast-changing marketplace.\n\n\n\nIn this webinar\, bestselling author and experienced entrepreneur Steve Strauss will show you how to leverage your experience and resources to launch a business that supports your lifestyle\, goals and legacy. Steve will walk through how to audit your existing capital\, identify a profitable market gap and use lean startup strategies to launch. \n\n\n\nWhat You Will Learn:\n\n	The Capital Audit: How to identify the 4 types of hidden assets you already own that younger founders don't.\n	The Human-Centric Edge: How the human connection can help you stand out in an AI-driven marketplace.\n	Smart Launching: How to minimize financial and reputational risk.\n	Bypassing the Tech Wall: The 'Simple 3' tech stack that allows you to run a modern business without being a coder.\n	The Owner Mindset: How to design a business that creates freedom and an exit strategy rather than just a new job.\n	The Breakthrough Roadmap: How to avoid hurdles in the first 90 days that stop most boomerpreneurs.\n\n\n\nThis webinar is part of the National Small Business Week Learning Lab\, happening May 6-7\, 2026\, featuring free educational content\, mentor connections\, and a community of entrepreneurs.\n\n\n\nRegister Online
X-ALT-DESC;FMTTYPE=text/html:<strong>&quot\;The Boomerpreneur Roadmap - How to Leverage Your Unique Advantages&quot\; Workshop<br />\n<br />\nWednesday\, May 6\, 2026\, 4:00 PM - 5:00 PM<br />\nFee: Free</strong><br />\n<br />\nStarting a business later in life can be a smart way to turn your experience\, skills\, and resources into income and independence. But many aspiring entrepreneurs over 50 are unsure where to start\, how to reduce risk or how to build a business in today&rsquo\;s fast-changing marketplace.<br />\n<br />\nIn this webinar\, bestselling author and experienced entrepreneur Steve Strauss will show you how to leverage your experience and resources to launch a business that supports your lifestyle\, goals and legacy. Steve will walk through how to audit your existing capital\, identify a profitable market gap and use lean startup strategies to launch.&nbsp\;<br />\n<br />\nWhat You Will Learn:\n<ul>\n	<li><strong>The Capital Audit: </strong>How to identify the 4 types of hidden assets you already own that younger founders don&#39\;t.</li>\n	<li><strong>The Human-Centric Edge: </strong>How the human connection can help you stand out in an AI-driven marketplace.</li>\n	<li><strong>Smart Launching: </strong>How to minimize financial and reputational risk.</li>\n	<li><strong>Bypassing the Tech Wall: </strong>The &lsquo\;Simple 3&rsquo\; tech stack that allows you to run a modern business without being a coder.</li>\n	<li><strong>The Owner Mindset: </strong>How to design a business that creates freedom and an exit strategy rather than just a new job.</li>\n	<li><strong>The Breakthrough Roadmap: </strong>How to avoid hurdles in the first 90 days that stop most boomerpreneurs.</li>\n</ul>\n<br />\nThis webinar is part of the&nbsp\;<a href="https://academy.score.org/program/nsbw-learning-lab?_gl=1*1vavkis*_gcl_au*MjEwNzM1NDY1OC4xNzcxOTY0Nzgz*_ga*MTkyODkwNTYyOC4xNzcxOTY0Nzgz*_ga_3LHXGY70TN*czE3NzcwMzgzNDkkbzQkZzEkdDE3NzcwMzkzOTQkajEwJGwwJGgw" target="_blank">National Small Business Week Learning Lab</a>\, happening May 6-7\, 2026\, featuring free educational content\, mentor connections\, and a community of entrepreneurs.<br />\n<br />\n<a href="https://www.score.org/event/boomerpreneur-roadmap-how-leverage-your-unique-advantages" target="_blank">Register Online</a>
LOCATION:Online Workshop
UID:e.1202.174079
SEQUENCE:3
DTSTAMP:20260424T191312Z
URL:https://business.cartersvillechamber.com/events/details/the-boomerpreneur-roadmap-online-workshop-174079
END:VEVENT

END:VCALENDAR
