BEGIN:VCALENDAR
VERSION:2.0
PRODID:-//ChamberMaster//Event Calendar 2.0//EN
METHOD:PUBLISH
X-PUBLISHED-TTL:P3D
REFRESH-INTERVAL:P3D
CALSCALE:GREGORIAN
BEGIN:VEVENT
DTSTART:20260321T140000Z
DTEND:20260321T180000Z
X-MICROSOFT-CDO-ALLDAYEVENT:FALSE
SUMMARY:Compassion Center Mobile Medical Free Clinic
DESCRIPTION:The Compassion Center Mobile Medical Free Clinic provides healthcare to our uninsured and underserved neighbors in Bartow County.\n\n\n	Services offered: Adult and Pediatric medical care to include: Sick visits\, Annual checkups\, and Physical exams.\n	Requirements: Income no more than 200% of the Federal Poverty Guidelines and has no health insurance coverage.
X-ALT-DESC;FMTTYPE=text/html:<p>The Compassion Center Mobile Medical Free Clinic provides healthcare to our uninsured and underserved neighbors in Bartow County.</p>\n\n<ul style="list-style-type:circle">\n	<li><strong>Services offered: </strong>Adult and Pediatric medical care to include: Sick visits\, Annual checkups\, and Physical exams.</li>\n	<li><strong>Requirements:</strong> Income no more than 200% of the Federal Poverty Guidelines and has no health insurance coverage.</li>\n</ul>\n
LOCATION:The Compassion Center 325 Old Mill Rd\, Bldg #3 Cartersville GA 30120
UID:e.1202.172534
SEQUENCE:3
DTSTAMP:20260421T174906Z
URL:https://business.cartersvillechamber.com/events/details/the-compassion-center-mobile-medical-free-clinic-03-21-2026-172534
END:VEVENT

END:VCALENDAR
