BEGIN:VCALENDAR
VERSION:2.0
PRODID:-//ChamberMaster//Event Calendar 2.0//EN
METHOD:PUBLISH
X-PUBLISHED-TTL:P3D
REFRESH-INTERVAL:P3D
CALSCALE:GREGORIAN
BEGIN:VEVENT
DTSTART:20251101T140000Z
DTEND:20251101T180000Z
X-MICROSOFT-CDO-ALLDAYEVENT:FALSE
SUMMARY:The Compassion Center Poker Run
DESCRIPTION:Who's ready to get their motors running and join us for our first COMPASSION ON THE MOVE POKER RUN!!! This event is a huge way to support our mission in caring for our unsheltered friends and those in poverty. We have lots of prizes available including a grill\, a fire pit\, Braves tickets for next season and more!! We are also including a 50/50 raffle so don't miss out!! Live music and food will be available at this family friendly event! Come join us!
X-ALT-DESC;FMTTYPE=text/html:<div>\n<div>Who&#39\;s ready to get their motors running and join us for our first COMPASSION ON THE MOVE POKER RUN!!! This event is a huge way to support our mission in caring for our unsheltered friends and those in poverty. We have lots of prizes available including a grill\, a fire pit\, Braves tickets for next season and more!! We are also including a 50/50 raffle so don&#39\;t miss out!! Live music and food will be available at this family friendly event! Come join us!&nbsp\;</div>\n</div>\n\n<div>&nbsp\;</div>\n
LOCATION:The Compassion Center 325 Old Mill Rd Cartersville\, GA 30120
UID:e.1202.171992
SEQUENCE:3
DTSTAMP:20260421T231446Z
URL:https://business.cartersvillechamber.com/events/details/the-compassion-center-poker-run-171992
END:VEVENT

END:VCALENDAR
